BEGIN:VCALENDAR
VERSION:2.0
PRODID:-//frconline.org//NONSGML kigkonsult.se iCalcreator 2.30.10//
CALSCALE:GREGORIAN
METHOD:PUBLISH
UID:4515a973-c3ed-43b4-983c-ee49f45478ac
X-WR-CALDESC:Dates\nFirst Tuesday of the month 5:30 pm - 9:30 pm\nor the Fi
 rst Thursday of the month 8:00 am - 12:00 pm\n\nCost\n$70 per person (Incl
 udes $20 materials fee that cannot be waived)\n\nRegister:\nFor English sp
 eakers register by calling (541) 389-5468 (Option #1) with your case numbe
 r and method of payment\n\nFor Spanish speakers register with Rosa Cendeja
 s at (541) 604-2031 (Option #2) with your case number and method of paymen
 t
X-WR-RELCALID:e171a28ef5a48d5430d5980a931061b5
X-WR-TIMEZONE:America/Los_Angeles
BEGIN:VTIMEZONE
TZID:America/Los_Angeles
BEGIN:STANDARD
TZNAME:PST
DTSTART:20211107T020000
TZOFFSETFROM:-0700
TZOFFSETTO:-0800
RDATE:20221106T020000
RDATE:20231105T020000
END:STANDARD
BEGIN:DAYLIGHT
TZNAME:PDT
DTSTART:20220313T020000
TZOFFSETFROM:-0800
TZOFFSETTO:-0700
RDATE:20230312T020000
END:DAYLIGHT
END:VTIMEZONE
BEGIN:VEVENT
UID:1898ef91-5642-4469-9662-501f69fad8e7
DTSTAMP:20260422T012856Z
DESCRIPTION:Dates\nFirst Tuesday of the month 5:30 pm - 9:30 pm\nor the Fir
 st Thursday of the month 8:00 am - 12:00 pm\n\nCost\n$70 per person (Inclu
 des $20 materials fee that cannot be waived)\n\nRegister:\nFor English spe
 akers register by calling (541) 389-5468 (Option #1) with your case number
  and method of payment\n\nFor Spanish speakers register with Rosa Cendejas
  at (541) 604-2031 (Option #2) with your case number and method of payment
DTSTART;TZID=America/Los_Angeles:20220705T173000
DTEND;TZID=America/Los_Angeles:20220705T213000
LOCATION:Via Zoom
SUMMARY:Family Law Education Program
END:VEVENT
END:VCALENDAR
