BEGIN:VCALENDAR
VERSION:2.0
PRODID:-//frconline.org//NONSGML kigkonsult.se iCalcreator 2.30.10//
CALSCALE:GREGORIAN
METHOD:PUBLISH
UID:9012efd9-14cf-44d2-9e24-ecaaf02d12ad
X-WR-CALDESC:10-weekly sessions for parents with children ages newborn thro
 ugh age 8.\n\nJoin a community of parents to:\n-Discover ways to manage st
 ress\n-Learn about child development\n-Build your toolkit for positive dis
 cipline\n\nWhen:\nWednesday's April 20th - June 22nd\, 2022 5:30-7:30 PM\n
 \nWhere: Zoom. FREE!
X-WR-RELCALID:c62bfd418db18f4d9da204a2255cdfec
X-WR-TIMEZONE:America/Los_Angeles
BEGIN:VTIMEZONE
TZID:America/Los_Angeles
BEGIN:STANDARD
TZNAME:PST
DTSTART:20211107T020000
TZOFFSETFROM:-0700
TZOFFSETTO:-0800
RDATE:20221106T020000
RDATE:20231105T020000
END:STANDARD
BEGIN:DAYLIGHT
TZNAME:PDT
DTSTART:20220313T020000
TZOFFSETFROM:-0800
TZOFFSETTO:-0700
RDATE:20230312T020000
END:DAYLIGHT
END:VTIMEZONE
BEGIN:VEVENT
UID:da0e761a-6274-4b34-9578-d5a32d48b5f0
DTSTAMP:20260422T033032Z
DESCRIPTION:10-weekly sessions for parents with children ages newborn throu
 gh age 8.\n\nJoin a community of parents to:\n-Discover ways to manage str
 ess\n-Learn about child development\n-Build your toolkit for positive disc
 ipline\n\nWhen:\nWednesday's April 20th - June 22nd\, 2022 5:30-7:30 PM\n
 \nWhere: Zoom. FREE!
DTSTART;TZID=America/Los_Angeles:20220615T173000
DTEND;TZID=America/Los_Angeles:20220615T193000
LOCATION:Via Zoom
SUMMARY:Make Parenting A Pleasure
END:VEVENT
END:VCALENDAR
