BEGIN:VCALENDAR
VERSION:2.0
PRODID:-//frconline.org//NONSGML kigkonsult.se iCalcreator 2.30.10//
CALSCALE:GREGORIAN
METHOD:PUBLISH
UID:0fffee77-550a-4a9e-bf74-0a29928a05fa
X-WR-CALDESC:The Family Law Education Program is offered to parents in Desc
 hutes County experiencing family restructuring such as a separation or div
 orce.\n\nClass details: \nLocation - via Zoom\n \nDates: \nFirst Tuesday o
 f the month 5:30-9:30 p.m. \nFirst Thursday of the month 8:00 a.m.-12:00 p
 .m.\n \nCost:\n$70 per person (Includes $20 materials fee that cannot be w
 aived)\n\nTo Register: Call (541) 389-5468 with your case number and payme
 nt\n\nHabla Español? Para registrase para la clase\, llame a Rosa al (541)
  604-2031.
X-WR-RELCALID:d74ddacd95368e78e787bf98bc650391
X-WR-TIMEZONE:America/Los_Angeles
BEGIN:VTIMEZONE
TZID:America/Los_Angeles
BEGIN:STANDARD
TZNAME:PST
DTSTART:20211107T020000
TZOFFSETFROM:-0700
TZOFFSETTO:-0800
RDATE:20221106T020000
RDATE:20231105T020000
END:STANDARD
BEGIN:DAYLIGHT
TZNAME:PDT
DTSTART:20220313T020000
TZOFFSETFROM:-0800
TZOFFSETTO:-0700
RDATE:20230312T020000
END:DAYLIGHT
END:VTIMEZONE
BEGIN:VEVENT
UID:6d3958ac-7e6b-4075-8447-69e4b9a5b08e
DTSTAMP:20260422T033159Z
DESCRIPTION:The Family Law Education Program is offered to parents in Desch
 utes County experiencing family restructuring such as a separation or divo
 rce.\n\nClass details: \nLocation - via Zoom\n \nDates: \nFirst Tuesday of
  the month 5:30-9:30 p.m. \nFirst Thursday of the month 8:00 a.m.-12:00 p.
 m.\n \nCost:\n$70 per person (Includes $20 materials fee that cannot be wa
 ived)\n\nTo Register: Call (541) 389-5468 with your case number and paymen
 t\n\nHabla Español? Para registrase para la clase\, llame a Rosa al (541) 
 604-2031.
DTSTART;TZID=America/Los_Angeles:20220607T173000
DTEND;TZID=America/Los_Angeles:20220607T213000
LOCATION:A location of your choosing via computer or the Zoom app
SUMMARY:Family Law Education Program
END:VEVENT
END:VCALENDAR
