BEGIN:VCALENDAR
VERSION:2.0
PRODID:-//frconline.org//NONSGML kigkonsult.se iCalcreator 2.30.10//
CALSCALE:GREGORIAN
METHOD:PUBLISH
UID:80325198-7d4e-49b9-98ea-b9dd2d2ea244
X-WR-CALDESC:Cada semana las familias se van a unir en Zoom y van a recibir
  una caja en el correo con materiales y instrucciones de como participar e
 n las lecciones y retos semanales. \nLas cajas incluyen:\n- juegos familia
 res\n-diversión para la familia\n-recetas\n-artículos de arte.\n\nHabra in
 centivos semanales para los que asistan y participen! \n\nAcceso al grupo 
 cerrado de Facebook.\n\nCost: Gratis!\n\nAbierto a todas las families de O
 regon Central
X-WR-RELCALID:466490708fffd8407c51ea6685f3d855
X-WR-TIMEZONE:America/Los_Angeles
BEGIN:VTIMEZONE
TZID:America/Los_Angeles
BEGIN:STANDARD
TZNAME:PST
DTSTART:20211107T020000
TZOFFSETFROM:-0700
TZOFFSETTO:-0800
RDATE:20221106T020000
RDATE:20231105T020000
END:STANDARD
BEGIN:DAYLIGHT
TZNAME:PDT
DTSTART:20220313T020000
TZOFFSETFROM:-0800
TZOFFSETTO:-0700
RDATE:20230312T020000
END:DAYLIGHT
END:VTIMEZONE
BEGIN:VEVENT
UID:6283c306-e89e-4601-99ac-cc842bb5636d
DTSTAMP:20260422T051318Z
DESCRIPTION:Cada semana las familias se van a unir en Zoom y van a recibir 
 una caja en el correo con materiales y instrucciones de como participar en
  las lecciones y retos semanales. \nLas cajas incluyen:\n- juegos familiar
 es\n-diversión para la familia\n-recetas\n-artículos de arte.\n\nHabra inc
 entivos semanales para los que asistan y participen! \n\nAcceso al grupo c
 errado de Facebook.\n\nCost: Gratis!\n\nAbierto a todas las families de Or
 egon Central
DTSTART;TZID=America/Los_Angeles:20220526T173000
DTEND;TZID=America/Los_Angeles:20220526T193000
LOCATION:Via Zoom
SUMMARY:Desafío Familiar
END:VEVENT
END:VCALENDAR
