BEGIN:VCALENDAR
VERSION:2.0
PRODID:-//frconline.org//NONSGML kigkonsult.se iCalcreator 2.30.10//
CALSCALE:GREGORIAN
METHOD:PUBLISH
UID:ba033917-44df-4cc6-b970-9c1a70df43b9
X-WR-CALDESC:KEEP foster parent support groups provide foster parents a wel
 come place to share experiences\, get tips and strategies\, and most impor
 tantly\, the support that is critical in this frequently stressful parenti
 ng role.\n\nFor Foster Parents with children 4-12 years old. \n\nEarn trai
 ning credit hours and receive $25 weekly stipend per session completed.
X-WR-RELCALID:2357672e361127fcc0338b53d204f7d1
X-WR-TIMEZONE:America/Los_Angeles
BEGIN:VTIMEZONE
TZID:America/Los_Angeles
BEGIN:STANDARD
TZNAME:PST
DTSTART:20211107T020000
TZOFFSETFROM:-0700
TZOFFSETTO:-0800
RDATE:20221106T020000
RDATE:20231105T020000
END:STANDARD
BEGIN:DAYLIGHT
TZNAME:PDT
DTSTART:20220313T020000
TZOFFSETFROM:-0800
TZOFFSETTO:-0700
RDATE:20230312T020000
END:DAYLIGHT
END:VTIMEZONE
BEGIN:VEVENT
UID:9a634bbf-d0e0-4932-bf10-da76e38174d3
DTSTAMP:20260422T050239Z
DESCRIPTION:KEEP foster parent support groups provide foster parents a welc
 ome place to share experiences\, get tips and strategies\, and most import
 antly\, the support that is critical in this frequently stressful parentin
 g role.\n\nFor Foster Parents with children 4-12 years old. \n\nEarn train
 ing credit hours and receive $25 weekly stipend per session completed.
DTSTART;TZID=America/Los_Angeles:20220519T100000
DTEND;TZID=America/Los_Angeles:20220519T113000
LOCATION:Virtual
SUMMARY:KEEP Standard
END:VEVENT
END:VCALENDAR
