BEGIN:VCALENDAR
VERSION:2.0
PRODID:-//frconline.org//NONSGML kigkonsult.se iCalcreator 2.30.10//
CALSCALE:GREGORIAN
METHOD:PUBLISH
UID:ff4063c2-3754-4119-86a2-35ffc40b716b
X-WR-CALDESC:10-weekly sessions for parents with children ages newborn thro
 ugh age 8.\n\nJoin a community of parents to:\n-Discover ways to manage st
 ress\n-Learn about child development\n-Build your toolkit for positive dis
 cipline\n\nWhen:\nWednesday's April 20th - June 22nd\, 2022 5:30-7:30 PM\n
 \nWhere: Zoom. FREE!
X-WR-RELCALID:ad3bca2f7156e59526aa0da491da0a6a
X-WR-TIMEZONE:America/Los_Angeles
BEGIN:VTIMEZONE
TZID:America/Los_Angeles
BEGIN:STANDARD
TZNAME:PST
DTSTART:20211107T020000
TZOFFSETFROM:-0700
TZOFFSETTO:-0800
RDATE:20221106T020000
RDATE:20231105T020000
END:STANDARD
BEGIN:DAYLIGHT
TZNAME:PDT
DTSTART:20220313T020000
TZOFFSETFROM:-0800
TZOFFSETTO:-0700
RDATE:20230312T020000
END:DAYLIGHT
END:VTIMEZONE
BEGIN:VEVENT
UID:bcf5e957-4f1f-41e6-b05f-4f9f567d5855
DTSTAMP:20260422T050406Z
DESCRIPTION:10-weekly sessions for parents with children ages newborn throu
 gh age 8.\n\nJoin a community of parents to:\n-Discover ways to manage str
 ess\n-Learn about child development\n-Build your toolkit for positive disc
 ipline\n\nWhen:\nWednesday's April 20th - June 22nd\, 2022 5:30-7:30 PM\n
 \nWhere: Zoom. FREE!
DTSTART;TZID=America/Los_Angeles:20220518T173000
DTEND;TZID=America/Los_Angeles:20220518T193000
LOCATION:Via Zoom
SUMMARY:Make Parenting A Pleasure
END:VEVENT
END:VCALENDAR
