BEGIN:VCALENDAR
VERSION:2.0
PRODID:-//frconline.org//NONSGML kigkonsult.se iCalcreator 2.30.10//
CALSCALE:GREGORIAN
METHOD:PUBLISH
UID:4c61aacc-7de7-4842-958e-32a14b809f16
X-WR-CALDESC:For families with youth ages 10-17\; this course covers:\n- Te
 chnology & Social Media\n- How brain development affects teen behavior and
  decision- making \n- Improve communication & more!\n\nWhen: Thursday's 1:
 30-3:30 PM April 7th - May 12th 2022 \nWhere: by Zoom\nCost: Free
X-WR-RELCALID:8ccffda41fb849fe6090cbd99f40489c
X-WR-TIMEZONE:America/Los_Angeles
BEGIN:VTIMEZONE
TZID:America/Los_Angeles
BEGIN:STANDARD
TZNAME:PST
DTSTART:20211107T020000
TZOFFSETFROM:-0700
TZOFFSETTO:-0800
RDATE:20221106T020000
RDATE:20231105T020000
END:STANDARD
BEGIN:DAYLIGHT
TZNAME:PDT
DTSTART:20220313T020000
TZOFFSETFROM:-0800
TZOFFSETTO:-0700
RDATE:20230312T020000
END:DAYLIGHT
END:VTIMEZONE
BEGIN:VEVENT
UID:5a36bee4-09c7-447f-9feb-c832b63a6d30
DTSTAMP:20260422T051318Z
DESCRIPTION:For families with youth ages 10-17\; this course covers:\n- Tec
 hnology & Social Media\n- How brain development affects teen behavior and 
 decision- making \n- Improve communication & more!\n\nWhen: Thursday's 1:3
 0-3:30 PM April 7th - May 12th 2022 \nWhere: by Zoom\nCost: Free
DTSTART;TZID=America/Los_Angeles:20220512T133000
DTEND;TZID=America/Los_Angeles:20220512T153000
LOCATION:Zoom
SUMMARY:Active Parenting of Teens
END:VEVENT
END:VCALENDAR
