BEGIN:VCALENDAR
VERSION:2.0
PRODID:-//frconline.org//NONSGML kigkonsult.se iCalcreator 2.30.10//
CALSCALE:GREGORIAN
METHOD:PUBLISH
UID:2115a362-87c5-4565-9a88-18931adb05b8
X-WR-CALDESC:KEEP foster parent support groups provide foster parents a wel
 come place to share experiences\, get tips and strategies\, and most impor
 tantly\, the support that is critical in this frequently stressful parenti
 ng role.\n\nFor Foster Parents with children 4-12 years old. \n\nEarn trai
 ning credit hours and receive $25 weekly stipend per session completed.
X-WR-RELCALID:f26402d8a3bf45644274550be8469bda
X-WR-TIMEZONE:America/Los_Angeles
BEGIN:VTIMEZONE
TZID:America/Los_Angeles
BEGIN:STANDARD
TZNAME:PST
DTSTART:20211107T020000
TZOFFSETFROM:-0700
TZOFFSETTO:-0800
RDATE:20221106T020000
END:STANDARD
BEGIN:DAYLIGHT
TZNAME:PDT
DTSTART:20220313T020000
TZOFFSETFROM:-0800
TZOFFSETTO:-0700
RDATE:20230312T020000
END:DAYLIGHT
END:VTIMEZONE
BEGIN:VEVENT
UID:e267ff4a-4876-4c33-98c0-a01671bcebc4
DTSTAMP:20260422T064130Z
DESCRIPTION:KEEP foster parent support groups provide foster parents a welc
 ome place to share experiences\, get tips and strategies\, and most import
 antly\, the support that is critical in this frequently stressful parentin
 g role.\n\nFor Foster Parents with children 4-12 years old. \n\nEarn train
 ing credit hours and receive $25 weekly stipend per session completed.
DTSTART;TZID=America/Los_Angeles:20220414T100000
DTEND;TZID=America/Los_Angeles:20220414T113000
LOCATION:Virtual
SUMMARY:KEEP Standard
END:VEVENT
END:VCALENDAR
