BEGIN:VCALENDAR
VERSION:2.0
PRODID:-//frconline.org//NONSGML kigkonsult.se iCalcreator 2.30.10//
CALSCALE:GREGORIAN
METHOD:PUBLISH
UID:e0344a9e-78cd-4753-aeec-0c02a3e279d9
X-WR-CALDESC:Are you ready to have fun with your family & win prizes with y
 our family?? \n\nJoin us every Friday on Zoom or just once\; perfect for f
 amilies with kids ages 8-15 years old.
X-WR-RELCALID:6736487a034c54d8f6d270829f289045
X-WR-TIMEZONE:America/Los_Angeles
BEGIN:VTIMEZONE
TZID:America/Los_Angeles
BEGIN:STANDARD
TZNAME:PST
DTSTART:20211107T020000
TZOFFSETFROM:-0700
TZOFFSETTO:-0800
RDATE:20221106T020000
END:STANDARD
BEGIN:DAYLIGHT
TZNAME:PDT
DTSTART:20220313T020000
TZOFFSETFROM:-0800
TZOFFSETTO:-0700
RDATE:20230312T020000
END:DAYLIGHT
END:VTIMEZONE
BEGIN:VEVENT
UID:b7bb9484-384f-493d-9244-670e09e047a7
DTSTAMP:20260422T070110Z
DESCRIPTION:Are you ready to have fun with your family & win prizes with yo
 ur family?? \n\nJoin us every Friday on Zoom or just once\; perfect for fa
 milies with kids ages 8-15 years old.
DTSTART;TZID=America/Los_Angeles:20220408T180000
DTEND;TZID=America/Los_Angeles:20220408T190000
LOCATION:Zoom
SUMMARY:Family Game Night
END:VEVENT
END:VCALENDAR
