BEGIN:VCALENDAR
VERSION:2.0
PRODID:-//frconline.org//NONSGML kigkonsult.se iCalcreator 2.30.10//
CALSCALE:GREGORIAN
METHOD:PUBLISH
UID:641cdd70-02cd-4b35-a0e1-06fb79258e8c
X-WR-CALDESC:KEEP foster parent support groups provide foster parents a wel
 come place to share experiences\, get tips and strategies\, and most impor
 tantly\, the support that is critical in this frequently stressful parenti
 ng role.\n\nFor Foster Parents with children 4-12 years old. \n\nEarn trai
 ning credit hours and receive $25 weekly stipend per session completed.
X-WR-RELCALID:764b47c640b8d5c6a52847b6f063378f
X-WR-TIMEZONE:America/Los_Angeles
BEGIN:VTIMEZONE
TZID:America/Los_Angeles
BEGIN:STANDARD
TZNAME:PST
DTSTART:20211107T020000
TZOFFSETFROM:-0700
TZOFFSETTO:-0800
RDATE:20221106T020000
END:STANDARD
BEGIN:DAYLIGHT
TZNAME:PDT
DTSTART:20220313T020000
TZOFFSETFROM:-0800
TZOFFSETTO:-0700
RDATE:20230312T020000
END:DAYLIGHT
END:VTIMEZONE
BEGIN:VEVENT
UID:7c943b71-83f1-4d4c-8d0f-5ff30d2ab2c5
DTSTAMP:20260422T081519Z
DESCRIPTION:KEEP foster parent support groups provide foster parents a welc
 ome place to share experiences\, get tips and strategies\, and most import
 antly\, the support that is critical in this frequently stressful parentin
 g role.\n\nFor Foster Parents with children 4-12 years old. \n\nEarn train
 ing credit hours and receive $25 weekly stipend per session completed.
DTSTART;TZID=America/Los_Angeles:20220324T100000
DTEND;TZID=America/Los_Angeles:20220324T113000
LOCATION:Virtual
SUMMARY:KEEP Standard
END:VEVENT
END:VCALENDAR
