BEGIN:VCALENDAR
VERSION:2.0
PRODID:-//frconline.org//NONSGML kigkonsult.se iCalcreator 2.30.10//
CALSCALE:GREGORIAN
METHOD:PUBLISH
UID:cc02a034-0f95-4d75-a77f-b148c9ef77f2
X-WR-CALDESC:A seven week group perfect for families with children from 9 t
 o 14 years old.\n\nWhen: Friday\, February 11th - Friday\, March 25th\, 20
 22 Time: 6:00 to 7:30 PM\nWhere: via Zoom Cost: Free!\n\nEach week familie
 s will join Zoom and receive a box in the mail with materials and instruct
 ions on how to participate in the weekly lessons and challenges. The boxes
  include family games\, family fun\, recipes\, and art supplies. There wil
 l be weekly incentives for those who attend and participate! \nAccess to t
 he closed Facebook group.\n\nTo register: Call 541-389-5468 option 2 \nOpe
 n to Central Oregon families\n
X-WR-RELCALID:a5694f5c25bdc868d79f5af6f478af17
X-WR-TIMEZONE:America/Los_Angeles
BEGIN:VTIMEZONE
TZID:America/Los_Angeles
BEGIN:STANDARD
TZNAME:PST
DTSTART:20211107T020000
TZOFFSETFROM:-0700
TZOFFSETTO:-0800
RDATE:20221106T020000
END:STANDARD
BEGIN:DAYLIGHT
TZNAME:PDT
DTSTART:20220313T020000
TZOFFSETFROM:-0800
TZOFFSETTO:-0700
RDATE:20230312T020000
END:DAYLIGHT
END:VTIMEZONE
BEGIN:VEVENT
UID:3002d49b-0414-4c0f-aeec-75d56a9f849b
DTSTAMP:20260422T081626Z
DESCRIPTION:A seven week group perfect for families with children from 9 to
  14 years old.\n\nWhen: Friday\, February 11th - Friday\, March 25th\, 202
 2 Time: 6:00 to 7:30 PM\nWhere: via Zoom Cost: Free!\n\nEach week families
  will join Zoom and receive a box in the mail with materials and instructi
 ons on how to participate in the weekly lessons and challenges. The boxes 
 include family games\, family fun\, recipes\, and art supplies. There will
  be weekly incentives for those who attend and participate! \nAccess to th
 e closed Facebook group.\n\nTo register: Call 541-389-5468 option 2 \nOpen
  to Central Oregon families\n
DTSTART;TZID=America/Los_Angeles:20220318T180000
DTEND;TZID=America/Los_Angeles:20220318T193000
LOCATION:Via Zoom
SUMMARY:Family Challenge!
END:VEVENT
END:VCALENDAR
