BEGIN:VCALENDAR
VERSION:2.0
PRODID:-//frconline.org//NONSGML kigkonsult.se iCalcreator 2.30.10//
CALSCALE:GREGORIAN
METHOD:PUBLISH
UID:c702d0d1-a8de-400e-b1bf-768be872c2e6
X-WR-CALDESC:Para padres con hijos de nacido-5 años.\n\nIImagínate tal vez 
 como se sintiera si pudieras entender lo que tu hija/o realmente te está p
 idiendo.\n- Ayudar a tu hija/o sentir seguros.\n- Aprender cómo entender y
  leer las necesidades emocionales de su hija/o \n- Ayudar a su hija/o mane
 jar sus emociones Mejorar la autoestima de su hija/o\n\nCuando: Miercoles 
 6:00pm-7:30pm\n9 de febrero-13 de abril\n\nDonde: Via Zoom Costo: Gratis\n
 \nPara reservar su lugar\nLlama al 541-389-5468 y imprima opción 2
X-WR-RELCALID:2418121b14f89f622271f25faebade5b
X-WR-TIMEZONE:America/Los_Angeles
BEGIN:VTIMEZONE
TZID:America/Los_Angeles
BEGIN:STANDARD
TZNAME:PST
DTSTART:20211107T020000
TZOFFSETFROM:-0700
TZOFFSETTO:-0800
RDATE:20221106T020000
END:STANDARD
BEGIN:DAYLIGHT
TZNAME:PDT
DTSTART:20210314T020000
TZOFFSETFROM:-0800
TZOFFSETTO:-0700
RDATE:20220313T020000
RDATE:20230312T020000
END:DAYLIGHT
END:VTIMEZONE
BEGIN:VEVENT
UID:32dd111d-4455-4319-95b5-6b099bb22e3d
DTSTAMP:20260422T081830Z
DESCRIPTION:Para padres con hijos de nacido-5 años.\n\nIImagínate tal vez c
 omo se sintiera si pudieras entender lo que tu hija/o realmente te está pi
 diendo.\n- Ayudar a tu hija/o sentir seguros.\n- Aprender cómo entender y 
 leer las necesidades emocionales de su hija/o \n- Ayudar a su hija/o manej
 ar sus emociones Mejorar la autoestima de su hija/o\n\nCuando: Miercoles 6
 :00pm-7:30pm\n9 de febrero-13 de abril\n\nDonde: Via Zoom Costo: Gratis\n
 \nPara reservar su lugar\nLlama al 541-389-5468 y imprima opción 2
DTSTART;TZID=America/Los_Angeles:20220302T180000
DTEND;TZID=America/Los_Angeles:20220302T193000
LOCATION:Via Zoom
SUMMARY:Circulo de Seguridad
END:VEVENT
END:VCALENDAR
