BEGIN:VCALENDAR
VERSION:2.0
PRODID:-//frconline.org//NONSGML kigkonsult.se iCalcreator 2.30.10//
CALSCALE:GREGORIAN
METHOD:PUBLISH
UID:ed02f84a-70ec-43f5-9392-d7529b4a7207
X-WR-CALDESC:Un grupo de siete semanas perfecto para familias con niños de 
 9 a 14 años. \n\nCada semana las familias se van a unir en Zoom y van a re
 cibir una caja en el correo con materiales y instrucciones de como partici
 par en las lecciones y retos semanales. Las cajas incluyen juegos familiar
 es\, diversión para la familia\, recetas y artículos de arte.\n¡Habra ince
 ntivos semanales para los que asistan y participen! \nAcceso al grupo cerr
 ado de Facebook.\n\nCosto: ¡Gratis!\nPara registrarse: Llama a Rosa 541-60
 4-2031\nAbierto a todas las families de Oregon Central
X-WR-RELCALID:017c05cfbb89fbe4344346401bf95612
X-WR-TIMEZONE:America/Los_Angeles
BEGIN:VTIMEZONE
TZID:America/Los_Angeles
BEGIN:STANDARD
TZNAME:PST
DTSTART:20211107T020000
TZOFFSETFROM:-0700
TZOFFSETTO:-0800
RDATE:20221106T020000
END:STANDARD
BEGIN:DAYLIGHT
TZNAME:PDT
DTSTART:20210314T020000
TZOFFSETFROM:-0800
TZOFFSETTO:-0700
RDATE:20220313T020000
RDATE:20230312T020000
END:DAYLIGHT
END:VTIMEZONE
BEGIN:VEVENT
UID:5951cc37-07bf-4ea2-ab47-5c9f2f672f26
DTSTAMP:20260422T093902Z
DESCRIPTION:Un grupo de siete semanas perfecto para familias con niños de 9
  a 14 años. \n\nCada semana las familias se van a unir en Zoom y van a rec
 ibir una caja en el correo con materiales y instrucciones de como particip
 ar en las lecciones y retos semanales. Las cajas incluyen juegos familiare
 s\, diversión para la familia\, recetas y artículos de arte.\n¡Habra incen
 tivos semanales para los que asistan y participen! \nAcceso al grupo cerra
 do de Facebook.\n\nCosto: ¡Gratis!\nPara registrarse: Llama a Rosa 541-604
 -2031\nAbierto a todas las families de Oregon Central
DTSTART;TZID=America/Los_Angeles:20220218T180000
DTEND;TZID=America/Los_Angeles:20220218T193000
LOCATION:Via Zoom
SUMMARY:Desafío Familiar
END:VEVENT
END:VCALENDAR
