BEGIN:VCALENDAR
VERSION:2.0
PRODID:-//frconline.org//NONSGML kigkonsult.se iCalcreator 2.30.10//
CALSCALE:GREGORIAN
METHOD:PUBLISH
UID:774b0877-a0e9-4d11-b700-e7858ab212eb
X-WR-CALDESC:What: Bites & Brews Home Edition is a fun take on our annual f
 undraiser and features a take-home bag with a 6x6 charcuterie box from Bou
 ntiful Boards of Bend and your choice of select beverages.\n\nEach order w
 ill come with dice & instructions for 3 competitive\, family friendly dice
  games and 1 'after dark' option. It's the perfect treat for a night at ho
 me with all your loved ones\, or just your special someone! \n\nWhen: Pack
 ages are available for pick-up on February 11th between 4pm-7pm\n\nWhere: 
 This year you can enjoy Bites & Brews from the comfort & safety of your ho
 me! After registering\, you will receive an email with the exact Bend pick
 -up location. \n\nHow: There are two steps to registration. Begin by filli
 ng out the form below. You will then be directed to Step 2 to choose the t
 ype of package you would like (Beer\, Wine\, Cider\, or Kombucha). Your se
 lection will direct you to enter your payment information. \n\nCost: Each 
 package is $50. Buy a package for a friend and create memories together\, 
 even from afar! Note: if you would like to buy more than one package that 
 are different types\, you will need to fill in the form below for each dif
 ferent type of package. \n\nWhy: Because parenting matters and we all need
  a little support along the way. By participating in this benefit\, you wi
 ll (1) Have fun! (2) Support families & (3) Strengthen our community!\n\n
X-WR-RELCALID:8d1d803b5a57fc30dc645d0cdeb0a5fe
X-WR-TIMEZONE:America/Los_Angeles
BEGIN:VTIMEZONE
TZID:America/Los_Angeles
BEGIN:STANDARD
TZNAME:PST
DTSTART:20211107T020000
TZOFFSETFROM:-0700
TZOFFSETTO:-0800
RDATE:20221106T020000
END:STANDARD
BEGIN:DAYLIGHT
TZNAME:PDT
DTSTART:20210314T020000
TZOFFSETFROM:-0800
TZOFFSETTO:-0700
RDATE:20220313T020000
RDATE:20230312T020000
END:DAYLIGHT
END:VTIMEZONE
BEGIN:VEVENT
UID:b1ce5c5a-68d8-41f2-95ff-ca8e4d341b3d
DTSTAMP:20260422T093435Z
DESCRIPTION:What: Bites & Brews Home Edition is a fun take on our annual fu
 ndraiser and features a take-home bag with a 6x6 charcuterie box from Boun
 tiful Boards of Bend and your choice of select beverages.\n\nEach order wi
 ll come with dice & instructions for 3 competitive\, family friendly dice 
 games and 1 'after dark' option. It's the perfect treat for a night at hom
 e with all your loved ones\, or just your special someone! \n\nWhen: Packa
 ges are available for pick-up on February 11th between 4pm-7pm\n\nWhere: T
 his year you can enjoy Bites & Brews from the comfort & safety of your hom
 e! After registering\, you will receive an email with the exact Bend pick-
 up location. \n\nHow: There are two steps to registration. Begin by fillin
 g out the form below. You will then be directed to Step 2 to choose the ty
 pe of package you would like (Beer\, Wine\, Cider\, or Kombucha). Your sel
 ection will direct you to enter your payment information. \n\nCost: Each p
 ackage is $50. Buy a package for a friend and create memories together\, e
 ven from afar! Note: if you would like to buy more than one package that a
 re different types\, you will need to fill in the form below for each diff
 erent type of package. \n\nWhy: Because parenting matters and we all need 
 a little support along the way. By participating in this benefit\, you wil
 l (1) Have fun! (2) Support families & (3) Strengthen our community!\n\n
DTSTART;TZID=America/Los_Angeles:20220211T160000
DTEND;TZID=America/Los_Angeles:20220211T190000
LOCATION:Home Edition
SUMMARY:Bites & Brews Benefit
END:VEVENT
END:VCALENDAR
