BEGIN:VCALENDAR
VERSION:2.0
PRODID:-//frconline.org//NONSGML kigkonsult.se iCalcreator 2.30.10//
CALSCALE:GREGORIAN
METHOD:PUBLISH
UID:e68a1f7b-9eca-4ab4-9540-d9e4335c60cc
X-WR-CALDESC:KEEP foster parent support groups provide foster parents a wel
 come place to share experiences\, get tips and strategies\, and most impor
 tantly\, the support that is critical for parenting. \n\nFor foster parent
 s caring for adolescents ages 13-18 years old. \n\nEarn training credits A
 ND receive a $25 weekly stipend!
X-WR-RELCALID:f92d30c47f8fe4fc0b40d4d26fb9dfb3
X-WR-TIMEZONE:America/Los_Angeles
BEGIN:VTIMEZONE
TZID:America/Los_Angeles
BEGIN:STANDARD
TZNAME:PST
DTSTART:20211107T020000
TZOFFSETFROM:-0700
TZOFFSETTO:-0800
RDATE:20221106T020000
END:STANDARD
BEGIN:DAYLIGHT
TZNAME:PDT
DTSTART:20210314T020000
TZOFFSETFROM:-0800
TZOFFSETTO:-0700
RDATE:20220313T020000
RDATE:20230312T020000
END:DAYLIGHT
END:VTIMEZONE
BEGIN:VEVENT
UID:9394cc5a-f271-4e72-9b38-d11eace3add4
DTSTAMP:20260422T093729Z
DESCRIPTION:KEEP foster parent support groups provide foster parents a welc
 ome place to share experiences\, get tips and strategies\, and most import
 antly\, the support that is critical for parenting. \n\nFor foster parents
  caring for adolescents ages 13-18 years old. \n\nEarn training credits AN
 D receive a $25 weekly stipend!
DTSTART;TZID=America/Los_Angeles:20220208T183000
DTEND;TZID=America/Los_Angeles:20220208T200000
LOCATION:Via Zoom
SUMMARY:KEEP Safe - Foster Parent Support Group (teens)
END:VEVENT
END:VCALENDAR
