BEGIN:VCALENDAR
VERSION:2.0
PRODID:-//frconline.org//NONSGML kigkonsult.se iCalcreator 2.30.10//
CALSCALE:GREGORIAN
METHOD:PUBLISH
UID:7dc6162a-7e37-4613-96ad-48f623bda0fb
X-WR-CALDESC:For parents with children birth-5 years\n\nImagine what it mig
 ht feel like if you were able to make sense of what your child was really 
 asking from you. \n\nHelp your child feel safe\, regulate their emotions\,
  and build self-esteem!\n\nCost: $Free\nWhere: Zoom\n\nTo reserve you spac
 e: (541) 389-5468\, OPTION 2
X-WR-RELCALID:d02ae70d8cbd8933193657e8e8acac1e
X-WR-TIMEZONE:America/Los_Angeles
BEGIN:VTIMEZONE
TZID:America/Los_Angeles
BEGIN:STANDARD
TZNAME:PST
DTSTART:20211107T020000
TZOFFSETFROM:-0700
TZOFFSETTO:-0800
RDATE:20221106T020000
END:STANDARD
BEGIN:DAYLIGHT
TZNAME:PDT
DTSTART:20210314T020000
TZOFFSETFROM:-0800
TZOFFSETTO:-0700
RDATE:20220313T020000
RDATE:20230312T020000
END:DAYLIGHT
END:VTIMEZONE
BEGIN:VEVENT
UID:1e804bfc-e954-4fc2-bc79-b5acfb8777bd
DTSTAMP:20260422T111324Z
DESCRIPTION:For parents with children birth-5 years\n\nImagine what it migh
 t feel like if you were able to make sense of what your child was really a
 sking from you. \n\nHelp your child feel safe\, regulate their emotions\, 
 and build self-esteem!\n\nCost: $Free\nWhere: Zoom\n\nTo reserve you space
 : (541) 389-5468\, OPTION 2
DTSTART;TZID=America/Los_Angeles:20220131T173000
DTEND;TZID=America/Los_Angeles:20220131T190000
LOCATION:Zoom
SUMMARY:Circle of Security 0-5 years
END:VEVENT
END:VCALENDAR
