BEGIN:VCALENDAR
VERSION:2.0
PRODID:-//frconline.org//NONSGML kigkonsult.se iCalcreator 2.30.10//
CALSCALE:GREGORIAN
METHOD:PUBLISH
UID:c0982389-0f60-4d19-857b-b7207a1ce5fc
X-WR-CALDESC:Kahoot Family Game Night!\n\nWin prizes & laugh with your fami
 ly from the comfort of your home! \n\nKahoot! is a game-based learning pla
 tform that brings engagement to all kinds of group activities. \n\nTo play
  you will need one device that can connect to the internet such as a cell 
 phone\, tablet\, or computer. *If you want to split up into teams among yo
 ur family\, you can use more devices*\n\nRegister online or give us a call
 !
X-WR-RELCALID:dfabfe7358a398e61e5cecf47d39a7c1
X-WR-TIMEZONE:America/Los_Angeles
BEGIN:VTIMEZONE
TZID:America/Los_Angeles
BEGIN:STANDARD
TZNAME:PST
DTSTART:20211107T020000
TZOFFSETFROM:-0700
TZOFFSETTO:-0800
RDATE:20221106T020000
END:STANDARD
BEGIN:DAYLIGHT
TZNAME:PDT
DTSTART:20210314T020000
TZOFFSETFROM:-0800
TZOFFSETTO:-0700
RDATE:20220313T020000
RDATE:20230312T020000
END:DAYLIGHT
END:VTIMEZONE
BEGIN:VEVENT
UID:8edbd2e1-27f2-48f3-85c8-0949a2779e62
DTSTAMP:20260422T122521Z
DESCRIPTION:Kahoot Family Game Night!\n\nWin prizes & laugh with your famil
 y from the comfort of your home! \n\nKahoot! is a game-based learning plat
 form that brings engagement to all kinds of group activities. \n\nTo play 
 you will need one device that can connect to the internet such as a cell p
 hone\, tablet\, or computer. *If you want to split up into teams among you
 r family\, you can use more devices*\n\nRegister online or give us a call!
DTSTART;TZID=America/Los_Angeles:20211216T180000
DTEND;TZID=America/Los_Angeles:20211216T193000
LOCATION:Virtual
SUMMARY:Kahoot Family Game Night
END:VEVENT
END:VCALENDAR
