BEGIN:VCALENDAR
VERSION:2.0
PRODID:-//frconline.org//NONSGML kigkonsult.se iCalcreator 2.30.10//
CALSCALE:GREGORIAN
METHOD:PUBLISH
UID:06b727d8-d624-4f99-a4f8-f47a3c940dc1
X-WR-CALDESC:For families with youth ages 10-17 years old. \n\nLearn about:
 \n- Parenting in the age of technology and social media\n- How brain devel
 opment affects teen behavior and decision-making\n- How to improve communi
 cation & more!
X-WR-RELCALID:0080aa06ee859dfcad7a38b7c461576e
X-WR-TIMEZONE:America/Los_Angeles
BEGIN:VTIMEZONE
TZID:America/Los_Angeles
BEGIN:STANDARD
TZNAME:PST
DTSTART:20211107T020000
TZOFFSETFROM:-0700
TZOFFSETTO:-0800
RDATE:20221106T020000
END:STANDARD
BEGIN:DAYLIGHT
TZNAME:PDT
DTSTART:20210314T020000
TZOFFSETFROM:-0800
TZOFFSETTO:-0700
RDATE:20220313T020000
RDATE:20230312T020000
END:DAYLIGHT
END:VTIMEZONE
BEGIN:VEVENT
UID:fe8bbbaa-3ef0-44fc-a134-4c771d53ef04
DTSTAMP:20260422T134036Z
DESCRIPTION:For families with youth ages 10-17 years old. \n\nLearn about:
 \n- Parenting in the age of technology and social media\n- How brain devel
 opment affects teen behavior and decision-making\n- How to improve communi
 cation & more!
DTSTART;TZID=America/Los_Angeles:20211130T173000
DTEND;TZID=America/Los_Angeles:20211130T193000
LOCATION:by Zoom
SUMMARY:Active Parenting of Teens
END:VEVENT
END:VCALENDAR
