BEGIN:VCALENDAR
VERSION:2.0
PRODID:-//frconline.org//NONSGML kigkonsult.se iCalcreator 2.30.10//
CALSCALE:GREGORIAN
METHOD:PUBLISH
UID:4f39f183-2024-42fe-97df-bb8da10d0947
X-WR-CALDESC:KEEP foster parent support groups provide foster parents a wel
 come place to share experiences\, get tips and strategies\, and most impor
 tantly\, the support that is critical in this frequently stressful parenti
 ng role.\n\nFor Foster Parents with children 4-12 years old. \n\nEarn trai
 ning credit hours and receive $25 weekly stipend per session completed.
X-WR-RELCALID:803cf5de82cd2e026256147b54e04acc
X-WR-TIMEZONE:America/Los_Angeles
BEGIN:VTIMEZONE
TZID:America/Los_Angeles
BEGIN:STANDARD
TZNAME:PST
DTSTART:20211107T020000
TZOFFSETFROM:-0700
TZOFFSETTO:-0800
RDATE:20221106T020000
END:STANDARD
BEGIN:DAYLIGHT
TZNAME:PDT
DTSTART:20210314T020000
TZOFFSETFROM:-0800
TZOFFSETTO:-0700
RDATE:20220313T020000
RDATE:20230312T020000
END:DAYLIGHT
END:VTIMEZONE
BEGIN:VEVENT
UID:2f4e9d5f-422c-4cff-b4e0-82e535de57e8
DTSTAMP:20260422T133404Z
DESCRIPTION:KEEP foster parent support groups provide foster parents a welc
 ome place to share experiences\, get tips and strategies\, and most import
 antly\, the support that is critical in this frequently stressful parentin
 g role.\n\nFor Foster Parents with children 4-12 years old. \n\nEarn train
 ing credit hours and receive $25 weekly stipend per session completed.
DTSTART;TZID=America/Los_Angeles:20211124T173000
DTEND;TZID=America/Los_Angeles:20211124T190000
LOCATION:Virtual
SUMMARY:KEEP Standard
END:VEVENT
END:VCALENDAR
