BEGIN:VCALENDAR
VERSION:2.0
PRODID:-//frconline.org//NONSGML kigkonsult.se iCalcreator 2.30.10//
CALSCALE:GREGORIAN
METHOD:PUBLISH
UID:88d98b36-fac7-4b5d-97cf-9966caf7b6e4
X-WR-CALDESC:Para familias con niños desde el nacimiento hasta los 8 años. 
 Este grupo de 12 semanas se enfoca en construir relaciones positivas con s
 us hijos:\n\n-Descubra cómo manejar el estrés de manera saludable\n-Aprend
 a las últimas ideas sobre el desarrollo infantil\n-Construya su caja de he
 rramientas para la disciplina positiva\n-Haga crecer su red de apoyo con o
 tros padres\n-Gratis!\n  \nPara registrarse: Llame al 541-389-5468 opción 
 2
X-WR-RELCALID:742317482c9fe9c6059a80dd89d3c722
X-WR-TIMEZONE:America/Los_Angeles
BEGIN:VTIMEZONE
TZID:America/Los_Angeles
BEGIN:STANDARD
TZNAME:PST
DTSTART:20201101T020000
TZOFFSETFROM:-0700
TZOFFSETTO:-0800
RDATE:20211107T020000
RDATE:20221106T020000
END:STANDARD
BEGIN:DAYLIGHT
TZNAME:PDT
DTSTART:20210314T020000
TZOFFSETFROM:-0800
TZOFFSETTO:-0700
RDATE:20220313T020000
RDATE:20230312T020000
END:DAYLIGHT
END:VTIMEZONE
BEGIN:VEVENT
UID:e62de5de-80f8-43ba-a61d-d2a24eb9400e
DTSTAMP:20260422T150422Z
DESCRIPTION:Para familias con niños desde el nacimiento hasta los 8 años. E
 ste grupo de 12 semanas se enfoca en construir relaciones positivas con su
 s hijos:\n\n-Descubra cómo manejar el estrés de manera saludable\n-Aprenda
  las últimas ideas sobre el desarrollo infantil\n-Construya su caja de her
 ramientas para la disciplina positiva\n-Haga crecer su red de apoyo con ot
 ros padres\n-Gratis!\n  \nPara registrarse: Llame al 541-389-5468 opción 2
DTSTART;TZID=America/Los_Angeles:20211013T100000
DTEND;TZID=America/Los_Angeles:20211013T113000
LOCATION:Zoom: Phone App\, Laptop\, Desktop
SUMMARY:Que La Crianza de sus Hijos Sea un Placer
END:VEVENT
END:VCALENDAR
