BEGIN:VCALENDAR
VERSION:2.0
PRODID:-//frconline.org//NONSGML kigkonsult.se iCalcreator 2.30.10//
CALSCALE:GREGORIAN
METHOD:PUBLISH
UID:624082fb-f328-4c8d-83cc-3edaa09a4cdc
X-WR-CALDESC:Para familias con niños desde el nacimiento hasta los 8 años. 
 Este grupo de 12 semanas se enfoca en construir relaciones positivas con s
 us hijos:\n\n-Descubra cómo manejar el estrés de manera saludable\n-Aprend
 a las últimas ideas sobre el desarrollo infantil\n-Construya su caja de he
 rramientas para la disciplina positiva\n-Haga crecer su red de apoyo con o
 tros padres\n-Gratis!\n  \nPara registrarse: Llame al 541-389-5468 opción 
 2
X-WR-RELCALID:2ee381b3e70f2c5def2b6af5c46ba5d8
X-WR-TIMEZONE:America/Los_Angeles
BEGIN:VTIMEZONE
TZID:America/Los_Angeles
BEGIN:STANDARD
TZNAME:PST
DTSTART:20201101T020000
TZOFFSETFROM:-0700
TZOFFSETTO:-0800
RDATE:20211107T020000
RDATE:20221106T020000
END:STANDARD
BEGIN:DAYLIGHT
TZNAME:PDT
DTSTART:20210314T020000
TZOFFSETFROM:-0800
TZOFFSETTO:-0700
RDATE:20220313T020000
RDATE:20230312T020000
END:DAYLIGHT
END:VTIMEZONE
BEGIN:VEVENT
UID:bdd622c7-6bb2-414e-bc08-c8ae8c88b737
DTSTAMP:20260422T150407Z
DESCRIPTION:Para familias con niños desde el nacimiento hasta los 8 años. E
 ste grupo de 12 semanas se enfoca en construir relaciones positivas con su
 s hijos:\n\n-Descubra cómo manejar el estrés de manera saludable\n-Aprenda
  las últimas ideas sobre el desarrollo infantil\n-Construya su caja de her
 ramientas para la disciplina positiva\n-Haga crecer su red de apoyo con ot
 ros padres\n-Gratis!\n  \nPara registrarse: Llame al 541-389-5468 opción 2
DTSTART;TZID=America/Los_Angeles:20211006T100000
DTEND;TZID=America/Los_Angeles:20211006T113000
LOCATION:Zoom: Phone App\, Laptop\, Desktop
SUMMARY:Que La Crianza de sus Hijos Sea un Placer
END:VEVENT
END:VCALENDAR
