BEGIN:VCALENDAR
VERSION:2.0
PRODID:-//frconline.org//NONSGML kigkonsult.se iCalcreator 2.30.10//
CALSCALE:GREGORIAN
METHOD:PUBLISH
UID:45d8d85a-3db1-4296-bb1c-a57b30e55c8f
X-WR-CALDESC:For Central Oregon parents with children from birth through pr
 eschool. Learn positive parenting strategies and parent with less stress a
 nd more FUN!\n\nFulfills mandated client requirement.\n\nThis is an ongoin
 g class\, meaning you can join at any session. After 12 consecutive sessio
 ns\, you'll receive a certificate.\n\nCost: $Free\n\nCall to register & ge
 t started!
X-WR-RELCALID:502cbab89612f27ade8dc7ecad683408
X-WR-TIMEZONE:America/Los_Angeles
BEGIN:VTIMEZONE
TZID:America/Los_Angeles
BEGIN:STANDARD
TZNAME:PST
DTSTART:20201101T020000
TZOFFSETFROM:-0700
TZOFFSETTO:-0800
RDATE:20211107T020000
RDATE:20221106T020000
END:STANDARD
BEGIN:DAYLIGHT
TZNAME:PDT
DTSTART:20210314T020000
TZOFFSETFROM:-0800
TZOFFSETTO:-0700
RDATE:20220313T020000
RDATE:20230312T020000
END:DAYLIGHT
END:VTIMEZONE
BEGIN:VEVENT
UID:5553dd15-c5ec-4d32-91ac-b83adacb12f2
DTSTAMP:20260422T163759Z
DESCRIPTION:For Central Oregon parents with children from birth through pre
 school. Learn positive parenting strategies and parent with less stress an
 d more FUN!\n\nFulfills mandated client requirement.\n\nThis is an ongoing
  class\, meaning you can join at any session. After 12 consecutive session
 s\, you'll receive a certificate.\n\nCost: $Free\n\nCall to register & get
  started!
DTSTART;TZID=America/Los_Angeles:20210915T100000
DTEND;TZID=America/Los_Angeles:20210915T113000
LOCATION:Zoom: Phone App\, Laptop\, Desktop
SUMMARY:Nurturing - The Early Years
END:VEVENT
END:VCALENDAR
