BEGIN:VCALENDAR
VERSION:2.0
PRODID:-//frconline.org//NONSGML kigkonsult.se iCalcreator 2.30.10//
CALSCALE:GREGORIAN
METHOD:PUBLISH
UID:7ad02988-66c7-4d2a-a5f6-0885b564bcd6
X-WR-CALDESC:Un grupo de siete semanas perfecto para familias con niños de 
 9 a 14 años.\n\nCosto: Gratis!\n\nCada semana las familias se van a unir e
 n Zoom y van a recibir una caja en el correo con materiales y instruccione
 s de como participar en las lecciones y retos semanales. Las cajas incluye
 n juegos familiares\, diversión para la familia\, recetas y artículos de a
 rte. Habra incentivos semanales para los que asistan y participen! \n\nAcc
 eso al grupo cerrado de Facebook.
X-WR-RELCALID:c3cfab7897ec3e8e151b71d863f5bfec
X-WR-TIMEZONE:America/Los_Angeles
BEGIN:VTIMEZONE
TZID:America/Los_Angeles
BEGIN:STANDARD
TZNAME:PST
DTSTART:20201101T020000
TZOFFSETFROM:-0700
TZOFFSETTO:-0800
RDATE:20211107T020000
RDATE:20221106T020000
END:STANDARD
BEGIN:DAYLIGHT
TZNAME:PDT
DTSTART:20210314T020000
TZOFFSETFROM:-0800
TZOFFSETTO:-0700
RDATE:20220313T020000
END:DAYLIGHT
END:VTIMEZONE
BEGIN:VEVENT
UID:e69648b4-7531-4079-be70-989678f4e338
DTSTAMP:20260422T181225Z
DESCRIPTION:Un grupo de siete semanas perfecto para familias con niños de 9
  a 14 años.\n\nCosto: Gratis!\n\nCada semana las familias se van a unir en
  Zoom y van a recibir una caja en el correo con materiales y instrucciones
  de como participar en las lecciones y retos semanales. Las cajas incluyen
  juegos familiares\, diversión para la familia\, recetas y artículos de ar
 te. Habra incentivos semanales para los que asistan y participen! \n\nAcce
 so al grupo cerrado de Facebook.
DTSTART;TZID=America/Los_Angeles:20210819T180000
DTEND;TZID=America/Los_Angeles:20210819T190000
LOCATION:Zoom: Phone App\, Laptop\, Desktop
SUMMARY:Desafío Familiar!
END:VEVENT
END:VCALENDAR
