BEGIN:VCALENDAR
VERSION:2.0
PRODID:-//frconline.org//NONSGML kigkonsult.se iCalcreator 2.30.10//
CALSCALE:GREGORIAN
METHOD:PUBLISH
UID:206731b4-fbed-446d-80bf-19c74528e13e
X-WR-CALDESC:For Central Oregon parents with children from birth through pr
 eschool. Learn positive parenting strategies and parent with less stress a
 nd more FUN!\n\nFulfills mandated client requirement.\n\nThis is an ongoin
 g class\, meaning you can join at any session. After 12 consecutive sessio
 ns\, you'll receive a certificate.\n\nCost: $Free\n\nCall to register & ge
 t started!
X-WR-RELCALID:061ac5a6667087a12b61f49e3e5608e8
X-WR-TIMEZONE:America/Los_Angeles
BEGIN:VTIMEZONE
TZID:America/Los_Angeles
BEGIN:STANDARD
TZNAME:PST
DTSTART:20201101T020000
TZOFFSETFROM:-0700
TZOFFSETTO:-0800
RDATE:20211107T020000
RDATE:20221106T020000
END:STANDARD
BEGIN:DAYLIGHT
TZNAME:PDT
DTSTART:20210314T020000
TZOFFSETFROM:-0800
TZOFFSETTO:-0700
RDATE:20220313T020000
END:DAYLIGHT
END:VTIMEZONE
BEGIN:VEVENT
UID:a746ada6-0535-4b33-a2d1-9aa826c49bd4
DTSTAMP:20260422T181228Z
DESCRIPTION:For Central Oregon parents with children from birth through pre
 school. Learn positive parenting strategies and parent with less stress an
 d more FUN!\n\nFulfills mandated client requirement.\n\nThis is an ongoing
  class\, meaning you can join at any session. After 12 consecutive session
 s\, you'll receive a certificate.\n\nCost: $Free\n\nCall to register & get
  started!
DTSTART;TZID=America/Los_Angeles:20210818T100000
DTEND;TZID=America/Los_Angeles:20210818T113000
LOCATION:Zoom: Phone App\, Laptop\, Desktop
SUMMARY:Nurturing - The Early Years
END:VEVENT
END:VCALENDAR
