BEGIN:VCALENDAR
VERSION:2.0
PRODID:-//frconline.org//NONSGML kigkonsult.se iCalcreator 2.30.10//
CALSCALE:GREGORIAN
METHOD:PUBLISH
UID:70c7d188-9df8-4767-80c7-84bfa88cecef
X-WR-CALDESC:Un grupo de siete semanas perfecto para familias con niños de 
 9 a 14 años.\n\nCosto: Gratis!\n\nCada semana las familias se van a unir e
 n Zoom y van a recibir una caja en el correo con materiales y instruccione
 s de como participar en las lecciones y retos semanales. Las cajas incluye
 n juegos familiares\, diversión para la familia\, recetas y artículos de a
 rte. Habra incentivos semanales para los que asistan y participen! \n\nAcc
 eso al grupo cerrado de Facebook.
X-WR-RELCALID:c569c82ac39a2d6d02ca1afdb3bd9e90
X-WR-TIMEZONE:America/Los_Angeles
BEGIN:VTIMEZONE
TZID:America/Los_Angeles
BEGIN:STANDARD
TZNAME:PST
DTSTART:20201101T020000
TZOFFSETFROM:-0700
TZOFFSETTO:-0800
RDATE:20211107T020000
RDATE:20221106T020000
END:STANDARD
BEGIN:DAYLIGHT
TZNAME:PDT
DTSTART:20210314T020000
TZOFFSETFROM:-0800
TZOFFSETTO:-0700
RDATE:20220313T020000
END:DAYLIGHT
END:VTIMEZONE
BEGIN:VEVENT
UID:94a17b24-57c0-432b-a10b-99aa94ebe683
DTSTAMP:20260422T181235Z
DESCRIPTION:Un grupo de siete semanas perfecto para familias con niños de 9
  a 14 años.\n\nCosto: Gratis!\n\nCada semana las familias se van a unir en
  Zoom y van a recibir una caja en el correo con materiales y instrucciones
  de como participar en las lecciones y retos semanales. Las cajas incluyen
  juegos familiares\, diversión para la familia\, recetas y artículos de ar
 te. Habra incentivos semanales para los que asistan y participen! \n\nAcce
 so al grupo cerrado de Facebook.
DTSTART;TZID=America/Los_Angeles:20210805T180000
DTEND;TZID=America/Los_Angeles:20210805T190000
LOCATION:Zoom: Phone App\, Laptop\, Desktop
SUMMARY:Desafío Familiar!
END:VEVENT
END:VCALENDAR
