BEGIN:VCALENDAR
VERSION:2.0
PRODID:-//frconline.org//NONSGML kigkonsult.se iCalcreator 2.30.10//
CALSCALE:GREGORIAN
METHOD:PUBLISH
UID:b4e38197-a311-4198-acd8-e10bbbeb33a9
X-WR-CALDESC:GRATIS! Ayudar a nuestros peques en su desarrollo con activida
 des divertidas!\n\nPara padres/guardianes con hijos de 0-5 años.\n\nPara i
 nformación sobre la localidad llame a Rosa Cendejas al (541) 604-2031
X-WR-RELCALID:9f5b0e3ba92b049bed184e869e949020
X-WR-TIMEZONE:America/Los_Angeles
BEGIN:VTIMEZONE
TZID:America/Los_Angeles
BEGIN:STANDARD
TZNAME:PST
DTSTART:20201101T020000
TZOFFSETFROM:-0700
TZOFFSETTO:-0800
RDATE:20211107T020000
RDATE:20221106T020000
END:STANDARD
BEGIN:DAYLIGHT
TZNAME:PDT
DTSTART:20210314T020000
TZOFFSETFROM:-0800
TZOFFSETTO:-0700
RDATE:20220313T020000
END:DAYLIGHT
END:VTIMEZONE
BEGIN:VEVENT
UID:a40ca29f-b51a-4bef-bf93-6275d528deee
DTSTAMP:20260422T193725Z
DESCRIPTION:GRATIS! Ayudar a nuestros peques en su desarrollo con actividad
 es divertidas!\n\nPara padres/guardianes con hijos de 0-5 años.\n\nPara in
 formación sobre la localidad llame a Rosa Cendejas al (541) 604-2031
DTSTART;TZID=America/Los_Angeles:20210727T123000
DTEND;TZID=America/Los_Angeles:20210727T133000
LOCATION:Parque en Prineville
SUMMARY:Prineville - Vamos al Parque con Teresa y Mayra
END:VEVENT
END:VCALENDAR
