BEGIN:VCALENDAR
VERSION:2.0
PRODID:-//frconline.org//NONSGML kigkonsult.se iCalcreator 2.30.10//
CALSCALE:GREGORIAN
METHOD:PUBLISH
UID:1a52dee0-3c60-4fe1-84d6-08a23c62660b
X-WR-CALDESC:KEEP is a support group\, not a class! Connect with other fost
 er parents and kinship families. Get familiar with evidence -based parenti
 ng tools you can use today!\n\n$25 incentive check each remote session att
 ended per household\nUp to 24 foster parent training hours towards DHS cer
 tification\n7-12 foster/kinship parents and two trained group leaders\n16 
 weekly 90-minutes sessions\n\nWho is eligible?\nAll DHS-certified foster p
 arents\nKinship families\nMust have a current foster youth between the age
 s 13-18 years old\n*We can accommodate you in a group that fits your sched
 ule. Let us know what works!*
X-WR-RELCALID:81bf45a0d6c2ca96c68a6e6bdda72323
X-WR-TIMEZONE:America/Los_Angeles
BEGIN:VTIMEZONE
TZID:America/Los_Angeles
BEGIN:STANDARD
TZNAME:PST
DTSTART:20201101T020000
TZOFFSETFROM:-0700
TZOFFSETTO:-0800
RDATE:20211107T020000
RDATE:20221106T020000
END:STANDARD
BEGIN:DAYLIGHT
TZNAME:PDT
DTSTART:20210314T020000
TZOFFSETFROM:-0800
TZOFFSETTO:-0700
RDATE:20220313T020000
END:DAYLIGHT
END:VTIMEZONE
BEGIN:VEVENT
UID:fbf1f33a-2095-4407-b44a-9ce7304f6b2a
DTSTAMP:20260422T193056Z
DESCRIPTION:KEEP is a support group\, not a class! Connect with other foste
 r parents and kinship families. Get familiar with evidence -based parentin
 g tools you can use today!\n\n$25 incentive check each remote session atte
 nded per household\nUp to 24 foster parent training hours towards DHS cert
 ification\n7-12 foster/kinship parents and two trained group leaders\n16 w
 eekly 90-minutes sessions\n\nWho is eligible?\nAll DHS-certified foster pa
 rents\nKinship families\nMust have a current foster youth between the ages
  13-18 years old\n*We can accommodate you in a group that fits your schedu
 le. Let us know what works!*
DTSTART;TZID=America/Los_Angeles:20210714T173000
DTEND;TZID=America/Los_Angeles:20210714T193000
LOCATION:Zoom: Phone App\, Laptop\, Desktop
SUMMARY:KEEP Safe - Foster Parent Support Group (teens)
END:VEVENT
END:VCALENDAR
