BEGIN:VCALENDAR
VERSION:2.0
PRODID:-//frconline.org//NONSGML kigkonsult.se iCalcreator 2.30.10//
CALSCALE:GREGORIAN
METHOD:PUBLISH
UID:2f606e3f-9d7f-4b8d-a2eb-6ee219c113f8
X-WR-CALDESC:GRATIS! Ayudar a nuestros peques en su desarrollo con activida
 des divertidas!\n\nPara padres/guardianes con hijos de 0-5 años.\n\nPara i
 nformación sobre la localidad llame a Rosa Cendejas al (541) 604-2031
X-WR-RELCALID:d89a9621a794ff0981af1bbd82389709
X-WR-TIMEZONE:America/Los_Angeles
BEGIN:VTIMEZONE
TZID:America/Los_Angeles
BEGIN:STANDARD
TZNAME:PST
DTSTART:20201101T020000
TZOFFSETFROM:-0700
TZOFFSETTO:-0800
RDATE:20211107T020000
RDATE:20221106T020000
END:STANDARD
BEGIN:DAYLIGHT
TZNAME:PDT
DTSTART:20210314T020000
TZOFFSETFROM:-0800
TZOFFSETTO:-0700
RDATE:20220313T020000
END:DAYLIGHT
END:VTIMEZONE
BEGIN:VEVENT
UID:48e5c7b3-f3c3-40e6-9fa3-872687255ce8
DTSTAMP:20260422T193229Z
DESCRIPTION:GRATIS! Ayudar a nuestros peques en su desarrollo con actividad
 es divertidas!\n\nPara padres/guardianes con hijos de 0-5 años.\n\nPara in
 formación sobre la localidad llame a Rosa Cendejas al (541) 604-2031
DTSTART;TZID=America/Los_Angeles:20210713T140000
DTEND;TZID=America/Los_Angeles:20210713T150000
LOCATION:Parque en Bend
SUMMARY:Bend - Vamos al Parque con Teresa y Mayra
END:VEVENT
END:VCALENDAR
