BEGIN:VCALENDAR
VERSION:2.0
PRODID:-//frconline.org//NONSGML kigkonsult.se iCalcreator 2.30.10//
CALSCALE:GREGORIAN
METHOD:PUBLISH
UID:0c1baf58-9ee2-4aca-b182-1fc6ba6cb87e
X-WR-CALDESC:For families with youth ages 10-17 years old! Learn what's goi
 ng on in your teen's brain\, and how strengthen your family relationships.
X-WR-RELCALID:fa81cdf78507fce10f865bf21f600c19
X-WR-TIMEZONE:America/Los_Angeles
BEGIN:VTIMEZONE
TZID:America/Los_Angeles
BEGIN:STANDARD
TZNAME:PST
DTSTART:20201101T020000
TZOFFSETFROM:-0700
TZOFFSETTO:-0800
RDATE:20211107T020000
RDATE:20221106T020000
END:STANDARD
BEGIN:DAYLIGHT
TZNAME:PDT
DTSTART:20210314T020000
TZOFFSETFROM:-0800
TZOFFSETTO:-0700
RDATE:20220313T020000
END:DAYLIGHT
END:VTIMEZONE
BEGIN:VEVENT
UID:a1d2023b-3a2d-4dbc-b349-0a051fcceaa4
DTSTAMP:20260422T222256Z
DESCRIPTION:For families with youth ages 10-17 years old! Learn what's goin
 g on in your teen's brain\, and how strengthen your family relationships.
DTSTART;TZID=America/Los_Angeles:20210524T180000
DTEND;TZID=America/Los_Angeles:20210524T200000
LOCATION:Via Zoom
SUMMARY:Active Parenting of Teens
END:VEVENT
END:VCALENDAR
