BEGIN:VCALENDAR
VERSION:2.0
PRODID:-//frconline.org//NONSGML kigkonsult.se iCalcreator 2.30.10//
CALSCALE:GREGORIAN
METHOD:PUBLISH
UID:30bc9678-e702-4cdd-988a-e98e11efa6f8
X-WR-CALDESC:Parents share the joys and challenges of parenting\, gain an u
 nderstanding of the developmental needs of children\, how to respond to ch
 allenging situations and learn strategies and techniques to help deal with
  stress and anxiety.\n\nFor parents with children: 5-12 years old\n12 Week
 s\nLanguages: English\nFulfills mandated client requirement\nCost: $Free
X-WR-RELCALID:00b8e63486c0deeb7d2ca65fb8e91cb0
X-WR-TIMEZONE:America/Los_Angeles
BEGIN:VTIMEZONE
TZID:America/Los_Angeles
BEGIN:STANDARD
TZNAME:PST
DTSTART:20201101T020000
TZOFFSETFROM:-0700
TZOFFSETTO:-0800
RDATE:20211107T020000
RDATE:20221106T020000
END:STANDARD
BEGIN:DAYLIGHT
TZNAME:PDT
DTSTART:20210314T020000
TZOFFSETFROM:-0800
TZOFFSETTO:-0700
RDATE:20220313T020000
END:DAYLIGHT
END:VTIMEZONE
BEGIN:VEVENT
UID:d9da4c91-284c-42c6-8aef-6926a29da72e
DTSTAMP:20260422T222255Z
DESCRIPTION:Parents share the joys and challenges of parenting\, gain an un
 derstanding of the developmental needs of children\, how to respond to cha
 llenging situations and learn strategies and techniques to help deal with 
 stress and anxiety.\n\nFor parents with children: 5-12 years old\n12 Weeks
 \nLanguages: English\nFulfills mandated client requirement\nCost: $Free
DTSTART;TZID=America/Los_Angeles:20210513T173000
DTEND;TZID=America/Los_Angeles:20210513T193000
LOCATION:Via Zoom
SUMMARY:Focus on Parenting – School Age
END:VEVENT
END:VCALENDAR
