BEGIN:VCALENDAR
VERSION:2.0
PRODID:-//frconline.org//NONSGML kigkonsult.se iCalcreator 2.30.10//
CALSCALE:GREGORIAN
METHOD:PUBLISH
UID:207049a2-f599-4d66-b2b9-6530091ca68a
X-WR-CALDESC:Identify your strengths as a parent\, take better care of your
 self and discover new ways to make parenting easier. Develop a better unde
 rstanding of your child’s behavior and learn positive discipline and commu
 nication strategies. This class will help you have less stress and more fu
 n as a parent and gain a feeling of competence in parenting.\n\nFor parent
 s with children: 0-5 years old\n12 Weeks\nLanguages: English\nFulfills man
 dated client requirement\nCost: $Free\n
X-WR-RELCALID:3b4272356e0e9905c00887f7f664c8b2
X-WR-TIMEZONE:America/Los_Angeles
BEGIN:VTIMEZONE
TZID:America/Los_Angeles
BEGIN:STANDARD
TZNAME:PST
DTSTART:20201101T020000
TZOFFSETFROM:-0700
TZOFFSETTO:-0800
RDATE:20211107T020000
RDATE:20221106T020000
END:STANDARD
BEGIN:DAYLIGHT
TZNAME:PDT
DTSTART:20210314T020000
TZOFFSETFROM:-0800
TZOFFSETTO:-0700
RDATE:20220313T020000
END:DAYLIGHT
END:VTIMEZONE
BEGIN:VEVENT
UID:890394b6-73ec-453f-8541-d744ab4ad987
DTSTAMP:20260422T222403Z
DESCRIPTION:Identify your strengths as a parent\, take better care of yours
 elf and discover new ways to make parenting easier. Develop a better under
 standing of your child’s behavior and learn positive discipline and commun
 ication strategies. This class will help you have less stress and more fun
  as a parent and gain a feeling of competence in parenting.\n\nFor parents
  with children: 0-5 years old\n12 Weeks\nLanguages: English\nFulfills mand
 ated client requirement\nCost: $Free\n
DTSTART;TZID=America/Los_Angeles:20210512T100000
DTEND;TZID=America/Los_Angeles:20210512T110000
LOCATION:Via Zoom
SUMMARY:Focus on Parenting – Birth to Preschool
END:VEVENT
END:VCALENDAR
