BEGIN:VCALENDAR
VERSION:2.0
PRODID:-//frconline.org//NONSGML kigkonsult.se iCalcreator 2.30.10//
CALSCALE:GREGORIAN
METHOD:PUBLISH
UID:f39805e6-7cfa-474c-ba98-9f3184235d1a
X-WR-CALDESC:We are offering this webinar to parents in Deschutes County ex
 periencing family restructuring such as a separation or divorce. Your regi
 stration will not be confirmed until you provide your case number and paym
 ent directly to FRC staff. No online registration will be confirmed\, plea
 se call 541-389-5468.  \n \nClass Details\nLocation: A location of your ch
 oosing via computer or the Zoom app.\n \nDates: \nFirst Tuesday of the mon
 th 5:30-9:30 p.m.\n \nCost:\n$70 per person (Includes $20 materials fee th
 at cannot be waived)
X-WR-RELCALID:9a4beded522a31aaef50db5e7b5b0150
X-WR-TIMEZONE:America/Los_Angeles
BEGIN:VTIMEZONE
TZID:America/Los_Angeles
BEGIN:STANDARD
TZNAME:PST
DTSTART:20201101T020000
TZOFFSETFROM:-0700
TZOFFSETTO:-0800
RDATE:20211107T020000
END:STANDARD
BEGIN:DAYLIGHT
TZNAME:PDT
DTSTART:20210314T020000
TZOFFSETFROM:-0800
TZOFFSETTO:-0700
RDATE:20220313T020000
END:DAYLIGHT
END:VTIMEZONE
BEGIN:VEVENT
UID:14b3e90a-2e29-4e32-b42a-1c3a60b37b60
DTSTAMP:20260422T222229Z
DESCRIPTION:We are offering this webinar to parents in Deschutes County exp
 eriencing family restructuring such as a separation or divorce. Your regis
 tration will not be confirmed until you provide your case number and payme
 nt directly to FRC staff. No online registration will be confirmed\, pleas
 e call 541-389-5468.  \n \nClass Details\nLocation: A location of your cho
 osing via computer or the Zoom app.\n \nDates: \nFirst Tuesday of the mont
 h 5:30-9:30 p.m.\n \nCost:\n$70 per person (Includes $20 materials fee tha
 t cannot be waived)
DTSTART;TZID=America/Los_Angeles:20210506T080000
DTEND;TZID=America/Los_Angeles:20210506T120000
LOCATION:Via Zoom
SUMMARY:Family Law Education Program
END:VEVENT
END:VCALENDAR
