BEGIN:VCALENDAR
VERSION:2.0
PRODID:-//frconline.org//NONSGML kigkonsult.se iCalcreator 2.30.10//
CALSCALE:GREGORIAN
METHOD:PUBLISH
UID:ce056886-8d44-4c9c-b121-a35c54507952
X-WR-CALDESC:We are offering this webinar to parents in Deschutes County ex
 periencing family restructuring such as a separation or divorce. Your regi
 stration will not be confirmed until you provide your case number and paym
 ent directly to FRC staff. No online registration will be confirmed\, plea
 se call 541-389-5468. \n\nClass Details\nLocation: A location of your choo
 sing via computer or the Zoom app.\n \nDates: \nFirst Tuesday of the month
  5:30-9:30 p.m.\n \nCost:\n$70 per person (Includes $20 materials fee that
  cannot be waived)
X-WR-RELCALID:729aa743da81f8dba21f86fe057a822b
X-WR-TIMEZONE:America/Los_Angeles
BEGIN:VTIMEZONE
TZID:America/Los_Angeles
BEGIN:STANDARD
TZNAME:PST
DTSTART:20201101T020000
TZOFFSETFROM:-0700
TZOFFSETTO:-0800
RDATE:20211107T020000
END:STANDARD
BEGIN:DAYLIGHT
TZNAME:PDT
DTSTART:20210314T020000
TZOFFSETFROM:-0800
TZOFFSETTO:-0700
RDATE:20220313T020000
END:DAYLIGHT
END:VTIMEZONE
BEGIN:VEVENT
UID:8a63f643-67c2-426f-9e93-5e19bff8cbbd
DTSTAMP:20260422T222230Z
DESCRIPTION:We are offering this webinar to parents in Deschutes County exp
 eriencing family restructuring such as a separation or divorce. Your regis
 tration will not be confirmed until you provide your case number and payme
 nt directly to FRC staff. No online registration will be confirmed\, pleas
 e call 541-389-5468. \n\nClass Details\nLocation: A location of your choos
 ing via computer or the Zoom app.\n \nDates: \nFirst Tuesday of the month 
 5:30-9:30 p.m.\n \nCost:\n$70 per person (Includes $20 materials fee that 
 cannot be waived)
DTSTART;TZID=America/Los_Angeles:20210504T173000
DTEND;TZID=America/Los_Angeles:20210504T213000
LOCATION:Via Zoom
SUMMARY:Family Law Education Program
END:VEVENT
END:VCALENDAR
