BEGIN:VCALENDAR
VERSION:2.0
PRODID:-//frconline.org//NONSGML kigkonsult.se iCalcreator 2.30.10//
CALSCALE:GREGORIAN
METHOD:PUBLISH
UID:b791164d-6941-4bc8-ac6e-1e4c9e7fe025
X-WR-CALDESC:Identify your strengths as a parent\, take better care of your
 self and discover new ways to make parenting easier. Develop a better unde
 rstanding of your child’s behavior and learn positive discipline and commu
 nication strategies. This class will help you have less stress and more fu
 n as a parent and gain a feeling of competence in parenting.\n\nFor parent
 s with children: 0-5 years old\n12 Weeks\nLanguages: English\nFulfills man
 dated client requirement\nCost: $Free\n
X-WR-RELCALID:605e5c445c4b479d12c829a1de42484a
X-WR-TIMEZONE:America/Los_Angeles
BEGIN:VTIMEZONE
TZID:America/Los_Angeles
BEGIN:STANDARD
TZNAME:PST
DTSTART:20201101T020000
TZOFFSETFROM:-0700
TZOFFSETTO:-0800
RDATE:20211107T020000
END:STANDARD
BEGIN:DAYLIGHT
TZNAME:PDT
DTSTART:20210314T020000
TZOFFSETFROM:-0800
TZOFFSETTO:-0700
RDATE:20220313T020000
END:DAYLIGHT
END:VTIMEZONE
BEGIN:VEVENT
UID:75019997-6d2c-4c5d-b68c-3a55237f4561
DTSTAMP:20260423T000537Z
DESCRIPTION:Identify your strengths as a parent\, take better care of yours
 elf and discover new ways to make parenting easier. Develop a better under
 standing of your child’s behavior and learn positive discipline and commun
 ication strategies. This class will help you have less stress and more fun
  as a parent and gain a feeling of competence in parenting.\n\nFor parents
  with children: 0-5 years old\n12 Weeks\nLanguages: English\nFulfills mand
 ated client requirement\nCost: $Free\n
DTSTART;TZID=America/Los_Angeles:20210414T100000
DTEND;TZID=America/Los_Angeles:20210414T110000
LOCATION:Via Zoom
SUMMARY:Focus on Parenting – Birth to Preschool
END:VEVENT
END:VCALENDAR
