BEGIN:VCALENDAR
VERSION:2.0
PRODID:-//frconline.org//NONSGML kigkonsult.se iCalcreator 2.30.10//
CALSCALE:GREGORIAN
METHOD:PUBLISH
UID:98ee5480-0f6b-4f76-9103-ea94a982fbdf
X-WR-CALDESC:3 Talleres de Paternidad en Desarollo\, Disciplina y Temperame
 ntos de los niños. \n\nPara padres con niños de 0-5 años\nCuesta: Gratis $
 \nCuando: 11\, 18 y 25 de Marzo del 2021\nDonde: Virtual via Zoom\nHorario
 : de 11:00 a 12:30pm
X-WR-RELCALID:9865bacc6c93e7bf87f843e6d1c81a17
X-WR-TIMEZONE:America/Los_Angeles
BEGIN:VTIMEZONE
TZID:America/Los_Angeles
BEGIN:STANDARD
TZNAME:PST
DTSTART:20201101T020000
TZOFFSETFROM:-0700
TZOFFSETTO:-0800
RDATE:20211107T020000
END:STANDARD
BEGIN:DAYLIGHT
TZNAME:PDT
DTSTART:20210314T020000
TZOFFSETFROM:-0800
TZOFFSETTO:-0700
RDATE:20220313T020000
END:DAYLIGHT
END:VTIMEZONE
BEGIN:VEVENT
UID:e1f48c62-847b-4f82-891e-a87577a01733
DTSTAMP:20260423T013834Z
DESCRIPTION:3 Talleres de Paternidad en Desarollo\, Disciplina y Temperamen
 tos de los niños. \n\nPara padres con niños de 0-5 años\nCuesta: Gratis $
 \nCuando: 11\, 18 y 25 de Marzo del 2021\nDonde: Virtual via Zoom\nHorario
 : de 11:00 a 12:30pm
DTSTART;TZID=America/Los_Angeles:20210318T110000
DTEND;TZID=America/Los_Angeles:20210318T123000
LOCATION:Via Zoom
SUMMARY:Construir\, Fortalecer y Conectar
END:VEVENT
END:VCALENDAR
