BEGIN:VCALENDAR
VERSION:2.0
PRODID:-//frconline.org//NONSGML kigkonsult.se iCalcreator 2.30.10//
CALSCALE:GREGORIAN
METHOD:PUBLISH
UID:511eb5b8-5a31-4ea0-a23a-bed0f496679a
X-WR-CALDESC:3 Talleres de Paternidad en Desarollo\, Disciplina y Temperame
 ntos de los niños. \n\nPara padres con niños de 0-5 años\nCuesta: Gratis $
 \nCuando: 11\, 18 y 25 de Marzo del 2021\nDonde: Virtual via Zoom\nHorario
 : de 11:00 a 12:30pm
X-WR-RELCALID:b0efdbb9f1c2a5b144c2be44d24de71f
X-WR-TIMEZONE:America/Los_Angeles
BEGIN:VTIMEZONE
TZID:America/Los_Angeles
BEGIN:STANDARD
TZNAME:PST
DTSTART:20201101T020000
TZOFFSETFROM:-0700
TZOFFSETTO:-0800
RDATE:20211107T020000
END:STANDARD
BEGIN:DAYLIGHT
TZNAME:PDT
DTSTART:20210314T020000
TZOFFSETFROM:-0800
TZOFFSETTO:-0700
RDATE:20220313T020000
END:DAYLIGHT
END:VTIMEZONE
BEGIN:VEVENT
UID:5569c0d6-1be0-4785-9699-0edae86a3ba7
DTSTAMP:20260423T013925Z
DESCRIPTION:3 Talleres de Paternidad en Desarollo\, Disciplina y Temperamen
 tos de los niños. \n\nPara padres con niños de 0-5 años\nCuesta: Gratis $
 \nCuando: 11\, 18 y 25 de Marzo del 2021\nDonde: Virtual via Zoom\nHorario
 : de 11:00 a 12:30pm
DTSTART;TZID=America/Los_Angeles:20210311T110000
DTEND;TZID=America/Los_Angeles:20210311T123000
LOCATION:Via Zoom
SUMMARY:Construir\, Fortalecer y Conectar
END:VEVENT
END:VCALENDAR
