BEGIN:VCALENDAR
VERSION:2.0
PRODID:-//frconline.org//NONSGML kigkonsult.se iCalcreator 2.30.10//
CALSCALE:GREGORIAN
METHOD:PUBLISH
UID:b87f1530-59b3-41d6-adff-bd055a01dd63
X-WR-CALDESC:Raising tiny humans can be hard! Come connect with other paren
 ts\, share tips and resources\, and discover new activities to keep your l
 ittle ones learning. Parents may enter at any time and attend as frequentl
 y as they would like.\n\nFor parents with children: 0-5 years old\nMeets W
 ednesdays 1:00 PM - 2:00 PM\nLanguages: English\, Coming soon in Spanish
X-WR-RELCALID:9e79d2418f9c86f7ed5a7ca7caacc5a0
X-WR-TIMEZONE:America/Los_Angeles
BEGIN:VTIMEZONE
TZID:America/Los_Angeles
BEGIN:STANDARD
TZNAME:PST
DTSTART:20201101T020000
TZOFFSETFROM:-0700
TZOFFSETTO:-0800
RDATE:20211107T020000
END:STANDARD
BEGIN:DAYLIGHT
TZNAME:PDT
DTSTART:20200308T020000
TZOFFSETFROM:-0800
TZOFFSETTO:-0700
RDATE:20210314T020000
RDATE:20220313T020000
END:DAYLIGHT
END:VTIMEZONE
BEGIN:VEVENT
UID:3538aac7-310c-4f82-8b13-20d777049664
DTSTAMP:20260423T031922Z
DESCRIPTION:Raising tiny humans can be hard! Come connect with other parent
 s\, share tips and resources\, and discover new activities to keep your li
 ttle ones learning. Parents may enter at any time and attend as frequently
  as they would like.\n\nFor parents with children: 0-5 years old\nMeets We
 dnesdays 1:00 PM - 2:00 PM\nLanguages: English\, Coming soon in Spanish
DTSTART;TZID=America/Los_Angeles:20210224T130000
DTEND;TZID=America/Los_Angeles:20210224T140000
LOCATION:Online
SUMMARY:Parent 2 Parent Connection Support Group
END:VEVENT
END:VCALENDAR
