BEGIN:VCALENDAR
VERSION:2.0
PRODID:-//frconline.org//NONSGML kigkonsult.se iCalcreator 2.30.10//
CALSCALE:GREGORIAN
METHOD:PUBLISH
UID:7ebef896-dbbf-438e-9569-255c1a28ce89
X-WR-CALDESC:KEEP es un grupo de apoyo\, no una clase! Ofrecemos herramient
 as para padres basadas en evidencia que puede usar hoy!\n\nUsted recibirá 
 un cheque de $25 semanalmente por cada sesión que asista virtualmente\nMás
  de 24 horas de entrenamiento por padre para su certificación con DHS7-12 
 padres foster/familiares y dos lideres entrenadas en grupos\n16 semanas po
 r 90-minutos cada sesión
X-WR-RELCALID:37e084178d9e797a9e2d8f4c27f83da6
X-WR-TIMEZONE:America/Los_Angeles
BEGIN:VTIMEZONE
TZID:America/Los_Angeles
BEGIN:STANDARD
TZNAME:PST
DTSTART:20201101T020000
TZOFFSETFROM:-0700
TZOFFSETTO:-0800
RDATE:20211107T020000
END:STANDARD
BEGIN:DAYLIGHT
TZNAME:PDT
DTSTART:20200308T020000
TZOFFSETFROM:-0800
TZOFFSETTO:-0700
RDATE:20210314T020000
RDATE:20220313T020000
END:DAYLIGHT
END:VTIMEZONE
BEGIN:VEVENT
UID:cf32091f-2115-47f2-bd4b-87b35b871571
DTSTAMP:20260423T032105Z
DESCRIPTION:KEEP es un grupo de apoyo\, no una clase! Ofrecemos herramienta
 s para padres basadas en evidencia que puede usar hoy!\n\nUsted recibirá u
 n cheque de $25 semanalmente por cada sesión que asista virtualmente\nMás 
 de 24 horas de entrenamiento por padre para su certificación con DHS7-12 p
 adres foster/familiares y dos lideres entrenadas en grupos\n16 semanas por
  90-minutos cada sesión
DTSTART;TZID=America/Los_Angeles:20210224T170000
DTEND;TZID=America/Los_Angeles:20210224T180000
LOCATION:Via Zoom
SUMMARY:KEEP Safe: Grupos de apoyo virtuales para padres de crianza
END:VEVENT
END:VCALENDAR
