BEGIN:VCALENDAR
VERSION:2.0
PRODID:-//frconline.org//NONSGML kigkonsult.se iCalcreator 2.30.10//
CALSCALE:GREGORIAN
METHOD:PUBLISH
UID:f97e929a-5b64-43a9-a1b2-276700c31fb1
X-WR-CALDESC:Identify your strengths as a parent\, take better care of your
 self and discover new ways to make parenting easier. Develop a better unde
 rstanding of your child’s behavior and learn positive discipline and commu
 nication strategies. This class will help you have less stress and more fu
 n as a parent and gain a feeling of competence in parenting.\n\nFor parent
 s with children: 0-5 years old\n12 Weeks\nLanguages: English\, Coming soon
  in Spanish\nFulfills mandated client requirement\nCost: $Free\n
X-WR-RELCALID:1e71a81c5c15d9897e359a4b77c395ca
X-WR-TIMEZONE:America/Los_Angeles
BEGIN:VTIMEZONE
TZID:America/Los_Angeles
BEGIN:STANDARD
TZNAME:PST
DTSTART:20201101T020000
TZOFFSETFROM:-0700
TZOFFSETTO:-0800
RDATE:20211107T020000
END:STANDARD
BEGIN:DAYLIGHT
TZNAME:PDT
DTSTART:20200308T020000
TZOFFSETFROM:-0800
TZOFFSETTO:-0700
RDATE:20210314T020000
RDATE:20220313T020000
END:DAYLIGHT
END:VTIMEZONE
BEGIN:VEVENT
UID:b8eb5417-75b7-4021-89e7-b75997590f83
DTSTAMP:20260423T032105Z
DESCRIPTION:Identify your strengths as a parent\, take better care of yours
 elf and discover new ways to make parenting easier. Develop a better under
 standing of your child’s behavior and learn positive discipline and commun
 ication strategies. This class will help you have less stress and more fun
  as a parent and gain a feeling of competence in parenting.\n\nFor parents
  with children: 0-5 years old\n12 Weeks\nLanguages: English\, Coming soon 
 in Spanish\nFulfills mandated client requirement\nCost: $Free\n
DTSTART;TZID=America/Los_Angeles:20210224T100000
DTEND;TZID=America/Los_Angeles:20210224T110000
LOCATION:Virtual-Interactive
SUMMARY:Focus on Parenting – Birth to Preschool
END:VEVENT
END:VCALENDAR
