BEGIN:VCALENDAR
VERSION:2.0
PRODID:-//frconline.org//NONSGML kigkonsult.se iCalcreator 2.30.10//
CALSCALE:GREGORIAN
METHOD:PUBLISH
UID:f9a493f3-2af5-4425-be0d-3eb557c930d2
X-WR-CALDESC:Talleres para  familias  con  jóvenes de 10-17 años. Reunáse c
 on otros padres para actualizar o aprender nuevas herramientas de paternid
 ad y juntos aprender como apollar a su adolescentes. Incluye  libro de tra
 bajo.\n\nCosto: $Gratis\n
X-WR-RELCALID:5e66b505eec9f1d3b94f76403694f043
X-WR-TIMEZONE:America/Los_Angeles
BEGIN:VTIMEZONE
TZID:America/Los_Angeles
BEGIN:STANDARD
TZNAME:PST
DTSTART:20201101T020000
TZOFFSETFROM:-0700
TZOFFSETTO:-0800
RDATE:20211107T020000
END:STANDARD
BEGIN:DAYLIGHT
TZNAME:PDT
DTSTART:20200308T020000
TZOFFSETFROM:-0800
TZOFFSETTO:-0700
RDATE:20210314T020000
RDATE:20220313T020000
END:DAYLIGHT
END:VTIMEZONE
BEGIN:VEVENT
UID:09cfaa02-5e7d-482c-b4a7-a57adb93a51b
DTSTAMP:20260423T032033Z
DESCRIPTION:Talleres para  familias  con  jóvenes de 10-17 años. Reunáse co
 n otros padres para actualizar o aprender nuevas herramientas de paternida
 d y juntos aprender como apollar a su adolescentes. Incluye  libro de trab
 ajo.\n\nCosto: $Gratis\n
DTSTART;TZID=America/Los_Angeles:20210219T163000
DTEND;TZID=America/Los_Angeles:20210219T183000
LOCATION:Via Zoom
SUMMARY:Padres Activos de Adolescentes
END:VEVENT
END:VCALENDAR
