BEGIN:VCALENDAR
VERSION:2.0
PRODID:-//frconline.org//NONSGML kigkonsult.se iCalcreator 2.30.10//
CALSCALE:GREGORIAN
METHOD:PUBLISH
UID:60f981e1-fca1-46ff-8d4d-8fd0212855ce
X-WR-CALDESC:In order to maintain social distance and avoid gathering in pu
 blic spaces\, effective March 17\, 2020 the Family Law Education Program h
 as been switched from an in-person group class to a Zoom class. Family Res
 ource Center values the safety of the community and the families we serve\
 , and we are offering this webinar to parents in Deschutes County experien
 cing family restructuring such as a separation or divorce (at no additiona
 l cost).\n \nClass Details\nLocation: A location of your choosing via comp
 uter or the Zoom app.\n \nDates: \nFirst Tuesday of the month 5:30-9:30 p.
 m.\nFirst Thursday of the month 8:00 a.m.-12:00 p.m.\n \nCost:\n$70 per pe
 rson (Includes $20 materials fee that cannot be waived)
X-WR-RELCALID:97f0265d4750199131ab56dc05d281ce
X-WR-TIMEZONE:America/Los_Angeles
BEGIN:VTIMEZONE
TZID:America/Los_Angeles
BEGIN:STANDARD
TZNAME:PST
DTSTART:20191103T020000
TZOFFSETFROM:-0700
TZOFFSETTO:-0800
RDATE:20201101T020000
RDATE:20211107T020000
END:STANDARD
BEGIN:DAYLIGHT
TZNAME:PDT
DTSTART:20200308T020000
TZOFFSETFROM:-0800
TZOFFSETTO:-0700
RDATE:20210314T020000
END:DAYLIGHT
END:VTIMEZONE
BEGIN:VEVENT
UID:4cd67310-aa0a-4093-9867-908b4b087c92
DTSTAMP:20260423T111556Z
DESCRIPTION:In order to maintain social distance and avoid gathering in pub
 lic spaces\, effective March 17\, 2020 the Family Law Education Program ha
 s been switched from an in-person group class to a Zoom class. Family Reso
 urce Center values the safety of the community and the families we serve\,
  and we are offering this webinar to parents in Deschutes County experienc
 ing family restructuring such as a separation or divorce (at no additional
  cost).\n \nClass Details\nLocation: A location of your choosing via compu
 ter or the Zoom app.\n \nDates: \nFirst Tuesday of the month 5:30-9:30 p.m
 .\nFirst Thursday of the month 8:00 a.m.-12:00 p.m.\n \nCost:\n$70 per per
 son (Includes $20 materials fee that cannot be waived)
DTSTART;TZID=America/Los_Angeles:20200903T080000
DTEND;TZID=America/Los_Angeles:20200903T120000
LOCATION:1130 NW Harriman Street\, Suite B Bend Oregon 97703
SUMMARY:Family Law Education Program
END:VEVENT
END:VCALENDAR
