BEGIN:VCALENDAR
VERSION:2.0
PRODID:-//frconline.org//NONSGML kigkonsult.se iCalcreator 2.30.10//
CALSCALE:GREGORIAN
METHOD:PUBLISH
UID:8ae9312d-7a47-42be-a35a-4c1843e901ea
X-WR-CALDESC:Offered for families and caregivers in Crook and Jefferson Cou
 nty referred to parenting classes by other agencies.
X-WR-RELCALID:0a327d644780493a0e34a67dd7a7f690
X-WR-TIMEZONE:America/Los_Angeles
BEGIN:VTIMEZONE
TZID:America/Los_Angeles
BEGIN:STANDARD
TZNAME:PST
DTSTART:20191103T020000
TZOFFSETFROM:-0700
TZOFFSETTO:-0800
RDATE:20201101T020000
RDATE:20211107T020000
END:STANDARD
BEGIN:DAYLIGHT
TZNAME:PDT
DTSTART:20200308T020000
TZOFFSETFROM:-0800
TZOFFSETTO:-0700
RDATE:20210314T020000
END:DAYLIGHT
END:VTIMEZONE
BEGIN:VEVENT
UID:f046caf6-b704-4b3d-957b-dfbaf8d39768
DTSTAMP:20260423T161450Z
DESCRIPTION:Offered for families and caregivers in Crook and Jefferson Coun
 ty referred to parenting classes by other agencies.
DTSTART;TZID=America/Los_Angeles:20200622T173000
DTEND;TZID=America/Los_Angeles:20200622T193000
LOCATION:Online Webinar
SUMMARY:Parenting Today
END:VEVENT
END:VCALENDAR
