BEGIN:VCALENDAR
VERSION:2.0
PRODID:-//frconline.org//NONSGML kigkonsult.se iCalcreator 2.30.10//
CALSCALE:GREGORIAN
METHOD:PUBLISH
UID:fefeb66c-95b8-4fc2-8d5d-0890b90e2b0f
X-WR-CALDESC:Offered for parents with children newborn to age 8 referred by
  DHS\, courts\, and other agencies. A webinar share the joys and challenge
 s of parenting while learning new ways to handle challenging behaviors and
  situations. The course is designed to help teach strategies for helping c
 hildren to problem solve. Skills are developed in building positive family
  communications and how to set clear limits. \n
X-WR-RELCALID:77eb2702b3b97aae261e6a56e55d5bad
X-WR-TIMEZONE:America/Los_Angeles
BEGIN:VTIMEZONE
TZID:America/Los_Angeles
BEGIN:STANDARD
TZNAME:PST
DTSTART:20191103T020000
TZOFFSETFROM:-0700
TZOFFSETTO:-0800
RDATE:20201101T020000
END:STANDARD
BEGIN:DAYLIGHT
TZNAME:PDT
DTSTART:20200308T020000
TZOFFSETFROM:-0800
TZOFFSETTO:-0700
RDATE:20210314T020000
END:DAYLIGHT
END:VTIMEZONE
BEGIN:VEVENT
UID:db39da05-31bd-4a7b-907b-7e3b93924f7c
DTSTAMP:20260423T192013Z
DESCRIPTION:Offered for parents with children newborn to age 8 referred by 
 DHS\, courts\, and other agencies. A webinar share the joys and challenges
  of parenting while learning new ways to handle challenging behaviors and 
 situations. The course is designed to help teach strategies for helping ch
 ildren to problem solve. Skills are developed in building positive family 
 communications and how to set clear limits. \n
DTSTART;TZID=America/Los_Angeles:20200430T173000
DTEND;TZID=America/Los_Angeles:20200430T193000
LOCATION:Online Webinar
SUMMARY:Focus on Parenting
END:VEVENT
END:VCALENDAR
