BEGIN:VCALENDAR
VERSION:2.0
PRODID:-//frconline.org//NONSGML kigkonsult.se iCalcreator 2.30.10//
CALSCALE:GREGORIAN
METHOD:PUBLISH
UID:45a09e6e-5a6c-4336-8cb4-893be4eb5478
X-WR-CALDESC:Offered for families and caregivers in Crook and Jefferson Cou
 nty referred to parenting classes by other agencies.
X-WR-RELCALID:cd50eed20af66c9c4d1e54ff5e844f2d
X-WR-TIMEZONE:America/Los_Angeles
BEGIN:VTIMEZONE
TZID:America/Los_Angeles
BEGIN:STANDARD
TZNAME:PST
DTSTART:20191103T020000
TZOFFSETFROM:-0700
TZOFFSETTO:-0800
RDATE:20201101T020000
END:STANDARD
BEGIN:DAYLIGHT
TZNAME:PDT
DTSTART:20200308T020000
TZOFFSETFROM:-0800
TZOFFSETTO:-0700
RDATE:20210314T020000
END:DAYLIGHT
END:VTIMEZONE
BEGIN:VEVENT
UID:f43862b8-86c1-47a1-9ccb-3c0e3095f6ea
DTSTAMP:20260423T191824Z
DESCRIPTION:Offered for families and caregivers in Crook and Jefferson Coun
 ty referred to parenting classes by other agencies.
DTSTART;TZID=America/Los_Angeles:20200427T173000
DTEND;TZID=America/Los_Angeles:20200427T193000
LOCATION:Online Webinar
SUMMARY:Parenting Today
END:VEVENT
END:VCALENDAR
