BEGIN:VCALENDAR
VERSION:2.0
PRODID:-//frconline.org//NONSGML kigkonsult.se iCalcreator 2.30.10//
CALSCALE:GREGORIAN
METHOD:PUBLISH
UID:2c90b09f-1efb-4c6b-86c1-50cd25127ec1
X-WR-CALDESC:Offered for parents with children newborn to age 8 referred by
  DHS\, courts\, and other agencies. A webinar share the joys and challenge
 s of parenting while learning new ways to handle challenging behaviors and
  situations. The course is designed to help teach strategies for helping c
 hildren to problem solve. Skills are developed in building positive family
  communications and how to set clear limits. \n
X-WR-RELCALID:caec7a4c65fc2bb7c8c9845ab03fe5ef
X-WR-TIMEZONE:America/Los_Angeles
BEGIN:VTIMEZONE
TZID:America/Los_Angeles
BEGIN:STANDARD
TZNAME:PST
DTSTART:20191103T020000
TZOFFSETFROM:-0700
TZOFFSETTO:-0800
RDATE:20201101T020000
END:STANDARD
BEGIN:DAYLIGHT
TZNAME:PDT
DTSTART:20200308T020000
TZOFFSETFROM:-0800
TZOFFSETTO:-0700
RDATE:20210314T020000
END:DAYLIGHT
END:VTIMEZONE
BEGIN:VEVENT
UID:b4864604-85e1-4c2e-b7cf-4cf02122867d
DTSTAMP:20260423T192106Z
DESCRIPTION:Offered for parents with children newborn to age 8 referred by 
 DHS\, courts\, and other agencies. A webinar share the joys and challenges
  of parenting while learning new ways to handle challenging behaviors and 
 situations. The course is designed to help teach strategies for helping ch
 ildren to problem solve. Skills are developed in building positive family 
 communications and how to set clear limits. \n
DTSTART;TZID=America/Los_Angeles:20200416T173000
DTEND;TZID=America/Los_Angeles:20200416T193000
LOCATION:Online Webinar
SUMMARY:Focus on Parenting
END:VEVENT
END:VCALENDAR
