BEGIN:VCALENDAR
VERSION:2.0
PRODID:-//frconline.org//NONSGML kigkonsult.se iCalcreator 2.30.10//
CALSCALE:GREGORIAN
METHOD:PUBLISH
UID:9af78451-f94d-4ccf-a68a-90d16074ad54
X-WR-CALDESC:Hable con otros padres\, reduzca el estrés\, disfrute criando 
 hijos.\n\nEncuentre maneras positivas de disciplinar y ayudar a sus hijos 
 a tener\néxito en la escuela.\n\nSesiones de 10 semanas para padres con ni
 ños desde recién nacidos hasta los\n8 años.
X-WR-RELCALID:191068b43e5fa85c1c98873874ae347b
X-WR-TIMEZONE:America/Los_Angeles
BEGIN:VTIMEZONE
TZID:America/Los_Angeles
BEGIN:STANDARD
TZNAME:PST
DTSTART:20191103T020000
TZOFFSETFROM:-0700
TZOFFSETTO:-0800
RDATE:20201101T020000
END:STANDARD
BEGIN:DAYLIGHT
TZNAME:PDT
DTSTART:20200308T020000
TZOFFSETFROM:-0800
TZOFFSETTO:-0700
RDATE:20210314T020000
END:DAYLIGHT
END:VTIMEZONE
BEGIN:VEVENT
UID:84fcb4a2-9019-4065-925a-eb431dc3c934
DTSTAMP:20260423T192845Z
DESCRIPTION:Hable con otros padres\, reduzca el estrés\, disfrute criando h
 ijos.\n\nEncuentre maneras positivas de disciplinar y ayudar a sus hijos a
  tener\néxito en la escuela.\n\nSesiones de 10 semanas para padres con niñ
 os desde recién nacidos hasta los\n8 años.
DTSTART;TZID=America/Los_Angeles:20200408T173000
DTEND;TZID=America/Los_Angeles:20200408T193000
LOCATION:Bend
SUMMARY:Que la Crianza de sus Hijos sea un placer
END:VEVENT
END:VCALENDAR
