BEGIN:VCALENDAR
VERSION:2.0
PRODID:-//frconline.org//NONSGML kigkonsult.se iCalcreator 2.30.10//
CALSCALE:GREGORIAN
METHOD:PUBLISH
UID:1430c941-8b9b-4052-97d3-ff7e2f057c3e
X-WR-CALDESC:A program for parents in Deschutes County experiencing family 
 restructuring\, such as separation or divorce.\n\nDates: \nFirst Tuesday o
 f the month 5:30 - 9:30 p.m.\nFirst Thursday of the month 8:00 a.m. -  12:
 00 p.m.\n\nCost: $70.00 per person (Includes $20.00 materials fee that can
 not be waived)\n\nLocation: Located in the Mike Meier Building\n\nTo regis
 ter call 541-389-5468 with your case number.
X-WR-RELCALID:bf202e3c5b0c624364d30c33b350db92
X-WR-TIMEZONE:America/Los_Angeles
BEGIN:VTIMEZONE
TZID:America/Los_Angeles
BEGIN:STANDARD
TZNAME:PST
DTSTART:20191103T020000
TZOFFSETFROM:-0700
TZOFFSETTO:-0800
RDATE:20201101T020000
END:STANDARD
BEGIN:DAYLIGHT
TZNAME:PDT
DTSTART:20200308T020000
TZOFFSETFROM:-0800
TZOFFSETTO:-0700
RDATE:20210314T020000
END:DAYLIGHT
END:VTIMEZONE
BEGIN:VEVENT
UID:a4a00adb-de34-48a3-b242-7fa395867705
DTSTAMP:20260423T193614Z
DESCRIPTION:A program for parents in Deschutes County experiencing family r
 estructuring\, such as separation or divorce.\n\nDates: \nFirst Tuesday of
  the month 5:30 - 9:30 p.m.\nFirst Thursday of the month 8:00 a.m. -  12:0
 0 p.m.\n\nCost: $70.00 per person (Includes $20.00 materials fee that cann
 ot be waived)\n\nLocation: Located in the Mike Meier Building\n\nTo regist
 er call 541-389-5468 with your case number.
DTSTART;TZID=America/Los_Angeles:20200402T080000
DTEND;TZID=America/Los_Angeles:20200402T120000
LOCATION:1130 NW Harriman Street\, Suite B Bend Oregon 97703
SUMMARY:Family Law Education Program
END:VEVENT
END:VCALENDAR
