BEGIN:VCALENDAR
VERSION:2.0
PRODID:-//frconline.org//NONSGML kigkonsult.se iCalcreator 2.30.10//
CALSCALE:GREGORIAN
METHOD:PUBLISH
UID:27a24334-cf92-4c89-b413-c5f230c50d89
X-WR-CALDESC:Construir y fortalecer conexiones \nDiviértete aprendiendo jun
 tos
X-WR-RELCALID:160df8447b8d486e345c20e91d0a7dbf
X-WR-TIMEZONE:America/Los_Angeles
BEGIN:VTIMEZONE
TZID:America/Los_Angeles
BEGIN:STANDARD
TZNAME:PST
DTSTART:20191103T020000
TZOFFSETFROM:-0700
TZOFFSETTO:-0800
RDATE:20201101T020000
END:STANDARD
BEGIN:DAYLIGHT
TZNAME:PDT
DTSTART:20200308T020000
TZOFFSETFROM:-0800
TZOFFSETTO:-0700
RDATE:20210314T020000
END:DAYLIGHT
END:VTIMEZONE
BEGIN:VEVENT
UID:a2f92405-0ea7-4508-aa83-1c6ed7ce5ee6
DTSTAMP:20260423T205803Z
DESCRIPTION:Construir y fortalecer conexiones \nDiviértete aprendiendo junt
 os
DTSTART;TZID=America/Los_Angeles:20200324T173000
DTEND;TZID=America/Los_Angeles:20200324T193000
LOCATION:Madras
SUMMARY:Crianza De Los Padres
END:VEVENT
END:VCALENDAR
