BEGIN:VCALENDAR
VERSION:2.0
PRODID:-//frconline.org//NONSGML kigkonsult.se iCalcreator 2.30.10//
CALSCALE:GREGORIAN
METHOD:PUBLISH
UID:75fbf5e4-5427-453b-a8f1-b0055927c32c
X-WR-CALDESC:Hable con otros padres\, reduzca el estrés\, disfrute criando 
 hijos.\n\nEncuentre maneras positivas de disciplinar y ayudar a sus hijos 
 a tener\néxito en la escuela.\n\nSesiones de 10 semanas para padres con ni
 ños desde recién nacidos hasta los\n8 años.
X-WR-RELCALID:a9be59e34095889f1720e3de72a28f5d
X-WR-TIMEZONE:America/Los_Angeles
BEGIN:VTIMEZONE
TZID:America/Los_Angeles
BEGIN:STANDARD
TZNAME:PST
DTSTART:20191103T020000
TZOFFSETFROM:-0700
TZOFFSETTO:-0800
RDATE:20201101T020000
END:STANDARD
BEGIN:DAYLIGHT
TZNAME:PDT
DTSTART:20200308T020000
TZOFFSETFROM:-0800
TZOFFSETTO:-0700
RDATE:20210314T020000
END:DAYLIGHT
END:VTIMEZONE
BEGIN:VEVENT
UID:dc40776a-ae28-498d-8a1a-e7409ec8a80c
DTSTAMP:20260423T210555Z
DESCRIPTION:Hable con otros padres\, reduzca el estrés\, disfrute criando h
 ijos.\n\nEncuentre maneras positivas de disciplinar y ayudar a sus hijos a
  tener\néxito en la escuela.\n\nSesiones de 10 semanas para padres con niñ
 os desde recién nacidos hasta los\n8 años.
DTSTART;TZID=America/Los_Angeles:20200318T173000
DTEND;TZID=America/Los_Angeles:20200318T193000
LOCATION:Bend
SUMMARY:Que la Crianza de sus Hijos sea un placer
END:VEVENT
END:VCALENDAR
