BEGIN:VCALENDAR
VERSION:2.0
PRODID:-//frconline.org//NONSGML kigkonsult.se iCalcreator 2.30.10//
CALSCALE:GREGORIAN
METHOD:PUBLISH
UID:8f5a9b4f-c11c-4ed7-81b7-6eeacfbfd9e6
X-WR-CALDESC:10-weekly sessions for parents\, grandparents and care provide
 rs of children 0-8 years Join us and talk with other parents to discover w
 ays to reduce stress\, find positive ways to discipline and help your chil
 dren succeed in school.\n\n
X-WR-RELCALID:3e0cb578b63f11cb8c756ca4636fc07a
X-WR-TIMEZONE:America/Los_Angeles
BEGIN:VTIMEZONE
TZID:America/Los_Angeles
BEGIN:STANDARD
TZNAME:PST
DTSTART:20191103T020000
TZOFFSETFROM:-0700
TZOFFSETTO:-0800
RDATE:20201101T020000
END:STANDARD
BEGIN:DAYLIGHT
TZNAME:PDT
DTSTART:20190310T020000
TZOFFSETFROM:-0800
TZOFFSETTO:-0700
RDATE:20200308T020000
RDATE:20210314T020000
END:DAYLIGHT
END:VTIMEZONE
BEGIN:VEVENT
UID:32937754-70a2-4a32-afa7-c71730473b92
DTSTAMP:20260423T225653Z
DESCRIPTION:10-weekly sessions for parents\, grandparents and care provider
 s of children 0-8 years Join us and talk with other parents to discover wa
 ys to reduce stress\, find positive ways to discipline and help your child
 ren succeed in school.\n\n
DTSTART;TZID=America/Los_Angeles:20200226T173000
DTEND;TZID=America/Los_Angeles:20200226T193000
LOCATION:Bend
SUMMARY:Make Parenting A Pleasure
END:VEVENT
END:VCALENDAR
